BEGIN:VCALENDAR
VERSION:2.0
PRODID:-//Wien für Senior:innen - ECPv6.15.17.1//NONSGML v1.0//EN
CALSCALE:GREGORIAN
METHOD:PUBLISH
X-ORIGINAL-URL:https://kalender.seniorinnen.wien
X-WR-CALDESC:Veranstaltungen für Wien für Senior:innen
REFRESH-INTERVAL;VALUE=DURATION:PT1H
X-Robots-Tag:noindex
X-PUBLISHED-TTL:PT1H
BEGIN:VTIMEZONE
TZID:Europe/Berlin
BEGIN:DAYLIGHT
TZOFFSETFROM:+0100
TZOFFSETTO:+0200
TZNAME:CEST
DTSTART:20230326T010000
END:DAYLIGHT
BEGIN:STANDARD
TZOFFSETFROM:+0200
TZOFFSETTO:+0100
TZNAME:CET
DTSTART:20231029T010000
END:STANDARD
BEGIN:DAYLIGHT
TZOFFSETFROM:+0100
TZOFFSETTO:+0200
TZNAME:CEST
DTSTART:20240331T010000
END:DAYLIGHT
BEGIN:STANDARD
TZOFFSETFROM:+0200
TZOFFSETTO:+0100
TZNAME:CET
DTSTART:20241027T010000
END:STANDARD
BEGIN:DAYLIGHT
TZOFFSETFROM:+0100
TZOFFSETTO:+0200
TZNAME:CEST
DTSTART:20250330T010000
END:DAYLIGHT
BEGIN:STANDARD
TZOFFSETFROM:+0200
TZOFFSETTO:+0100
TZNAME:CET
DTSTART:20251026T010000
END:STANDARD
END:VTIMEZONE
BEGIN:VEVENT
DTSTART;TZID=Europe/Berlin:20241017T150000
DTEND;TZID=Europe/Berlin:20241017T170000
DTSTAMP:20260420T204337
CREATED:20240906T125813Z
LAST-MODIFIED:20240906T125813Z
UID:6674-1729177200-1729184400@kalender.seniorinnen.wien
SUMMARY:Mahlzeit Nachbar:innen
DESCRIPTION:Gutes Essen macht gute Stimmung\, gute Stimmung macht gute Freundschaft! \nKommen Sie vorbei\, bereiten wir gemeinsam schnelle\, frische und einfache Gerichte zu. wohnpartner stellt Zutaten und Küche gerne zur Verfügung. Bringen Sie kreative Rezepte\, Ihre Nachbar:innen\, Hunger und gute Laune mit! \nAm 03.10.2024 sowie am 17.10.2024 jeweils von 15:00 Uhr bis 17:00 Uhr im Veranstaltungsraum des wohnpartner-Lokals Engerthstraße 230\, 1020 Wien. \nAnmeldung erforderlich von 2.09. bis bis 23.09.2024: \n\nTel. 01/24503-02086\nost@wohnpartner-wien.at\n\nMax. 15 Teilnehmer:innen
URL:https://kalender.seniorinnen.wien/event/mahlzeit-nachbarinnen/2024-10-17/
LOCATION:wohnpartner-Lokal Engerthstraße\, Engerthstraße 230\, Wien\, 1020
CATEGORIES:Begegnung,Grätzel,Monat der Senior:innen,Selbstfürsorge
ATTACH;FMTTYPE=image/jpeg:https://kalender.seniorinnen.wien/wp-content/uploads/2024/09/Kochtreff_c_Karin-Gruber-scaled-e1725627464687.jpg
END:VEVENT
BEGIN:VEVENT
DTSTART;TZID=Europe/Berlin:20241003T150000
DTEND;TZID=Europe/Berlin:20241003T170000
DTSTAMP:20260420T204337
CREATED:20240906T125813Z
LAST-MODIFIED:20240906T125813Z
UID:6671-1727967600-1727974800@kalender.seniorinnen.wien
SUMMARY:Mahlzeit Nachbar:innen
DESCRIPTION:Gutes Essen macht gute Stimmung\, gute Stimmung macht gute Freundschaft! \nKommen Sie vorbei\, bereiten wir gemeinsam schnelle\, frische und einfache Gerichte zu. wohnpartner stellt Zutaten und Küche gerne zur Verfügung. Bringen Sie kreative Rezepte\, Ihre Nachbar:innen\, Hunger und gute Laune mit! \nAm 03.10.2024 sowie am 17.10.2024 jeweils von 15:00 Uhr bis 17:00 Uhr im Veranstaltungsraum des wohnpartner-Lokals Engerthstraße 230\, 1020 Wien. \nAnmeldung erforderlich von 2.09. bis bis 23.09.2024: \n\nTel. 01/24503-02086\nost@wohnpartner-wien.at\n\nMax. 15 Teilnehmer:innen
URL:https://kalender.seniorinnen.wien/event/mahlzeit-nachbarinnen/2024-10-03/
LOCATION:wohnpartner-Lokal Engerthstraße\, Engerthstraße 230\, Wien\, 1020
CATEGORIES:Begegnung,Grätzel,Monat der Senior:innen,Selbstfürsorge
ATTACH;FMTTYPE=image/jpeg:https://kalender.seniorinnen.wien/wp-content/uploads/2024/09/Kochtreff_c_Karin-Gruber-scaled-e1725627464687.jpg
END:VEVENT
END:VCALENDAR