BEGIN:VCALENDAR
VERSION:2.0
PRODID:-//Wien für Senior:innen - ECPv6.15.17.1//NONSGML v1.0//EN
CALSCALE:GREGORIAN
METHOD:PUBLISH
X-WR-CALNAME:Wien für Senior:innen
X-ORIGINAL-URL:https://kalender.seniorinnen.wien
X-WR-CALDESC:Veranstaltungen für Wien für Senior:innen
REFRESH-INTERVAL;VALUE=DURATION:PT1H
X-Robots-Tag:noindex
X-PUBLISHED-TTL:PT1H
BEGIN:VTIMEZONE
TZID:Europe/Berlin
BEGIN:DAYLIGHT
TZOFFSETFROM:+0100
TZOFFSETTO:+0200
TZNAME:CEST
DTSTART:20250330T010000
END:DAYLIGHT
BEGIN:STANDARD
TZOFFSETFROM:+0200
TZOFFSETTO:+0100
TZNAME:CET
DTSTART:20251026T010000
END:STANDARD
BEGIN:DAYLIGHT
TZOFFSETFROM:+0100
TZOFFSETTO:+0200
TZNAME:CEST
DTSTART:20260329T010000
END:DAYLIGHT
BEGIN:STANDARD
TZOFFSETFROM:+0200
TZOFFSETTO:+0100
TZNAME:CET
DTSTART:20261025T010000
END:STANDARD
BEGIN:DAYLIGHT
TZOFFSETFROM:+0100
TZOFFSETTO:+0200
TZNAME:CEST
DTSTART:20270328T010000
END:DAYLIGHT
BEGIN:STANDARD
TZOFFSETFROM:+0200
TZOFFSETTO:+0100
TZNAME:CET
DTSTART:20271031T010000
END:STANDARD
END:VTIMEZONE
BEGIN:VEVENT
DTSTART;TZID=Europe/Berlin:20260421T100000
DTEND;TZID=Europe/Berlin:20260421T113000
DTSTAMP:20260420T141620
CREATED:20260417T111246Z
LAST-MODIFIED:20260417T112456Z
UID:12686-1776765600-1776771000@kalender.seniorinnen.wien
SUMMARY:Kreatives Gestalten für Senior:innen (demenzfreundlich)
DESCRIPTION:Dienstags 3x\, 14. bis 28.04.2026\, 10 bis 11:30 Uhr \nKursleitung: Kerstin Wiesinger\, MA \nVHS Simmering\nGottschalkgasse 10\n1110 Wien \nDas kreative Gestalten kann eine Brücke zur eigenen Geschichte\, zu Gefühlen und Erlebnissen sein.\nIn diesem Workshop steht nicht das fertige Kunstwerk im Vordergrund\, sondern das gemeinsame kreative Tun\, das\nErleben von Farben\, Formen und Materialien im Hier und Jetzt. Durch intuitives Malen\, Zeichnen oder Collagieren\nentstehen Bilder\, die Erinnerungen wecken\, Gefühle ausdrücken und Verbindung ermöglichen – zu sich selbst und\nzu anderen.\nZielgruppe:\nSenior*innen\nVorkenntnisse sind nicht erforderlich.\nZiele des Workshops:\n• Förderung von Ausdruck\, Lebensfreude und Selbstwert\n• Aktivierung von Erinnerungen durch sinnliche Reize\n• Schaffung eines geschützten Raumes für Begegnung und Kreativität\nDieses Angebot soll besonders inklusiv für Sie sein. Bitte sagen Sie uns vorher\, wenn Sie individuelle Unterstützung\nbrauchen.\nMehr Informationen zur Barrierefreiheit unserer Häuser\, zur Mitnahme von Begleitpersonen und weiteren Kursen\,\ndie besonders inklusiv und barrierefrei sind: www.vhs.at/barrierefreiheit\nAlle Materialien werden bereitgestellt. Die Materialkosten sind im Kursbetrag beinhaltet. Bitte eine Schürze mitnehmen.\nDer Workshopraum ist barrierefrei zugänglich. \nGebühr: 49 € \nFoto/Illustration:Pixabay
URL:https://kalender.seniorinnen.wien/event/kreatives-gestalten-fuer-seniorinnen-demenzfreundlich/2026-04-21/
LOCATION:VHS Simmering\, Gottschalkgasse 10\, Wien\, 1110\, Österreich
CATEGORIES:Demenz,Fit und Gesund
ATTACH;FMTTYPE=image/png:https://kalender.seniorinnen.wien/wp-content/uploads/2026/04/openclipart-vectors-pens-2024001_1920.png
ORGANIZER;CN="VHS Simmering":MAILTO:simmering@vhs.at
END:VEVENT
BEGIN:VEVENT
DTSTART;TZID=Europe/Berlin:20260428T100000
DTEND;TZID=Europe/Berlin:20260428T113000
DTSTAMP:20260420T141620
CREATED:20260417T111246Z
LAST-MODIFIED:20260417T112456Z
UID:12687-1777370400-1777375800@kalender.seniorinnen.wien
SUMMARY:Kreatives Gestalten für Senior:innen (demenzfreundlich)
DESCRIPTION:Dienstags 3x\, 14. bis 28.04.2026\, 10 bis 11:30 Uhr \nKursleitung: Kerstin Wiesinger\, MA \nVHS Simmering\nGottschalkgasse 10\n1110 Wien \nDas kreative Gestalten kann eine Brücke zur eigenen Geschichte\, zu Gefühlen und Erlebnissen sein.\nIn diesem Workshop steht nicht das fertige Kunstwerk im Vordergrund\, sondern das gemeinsame kreative Tun\, das\nErleben von Farben\, Formen und Materialien im Hier und Jetzt. Durch intuitives Malen\, Zeichnen oder Collagieren\nentstehen Bilder\, die Erinnerungen wecken\, Gefühle ausdrücken und Verbindung ermöglichen – zu sich selbst und\nzu anderen.\nZielgruppe:\nSenior*innen\nVorkenntnisse sind nicht erforderlich.\nZiele des Workshops:\n• Förderung von Ausdruck\, Lebensfreude und Selbstwert\n• Aktivierung von Erinnerungen durch sinnliche Reize\n• Schaffung eines geschützten Raumes für Begegnung und Kreativität\nDieses Angebot soll besonders inklusiv für Sie sein. Bitte sagen Sie uns vorher\, wenn Sie individuelle Unterstützung\nbrauchen.\nMehr Informationen zur Barrierefreiheit unserer Häuser\, zur Mitnahme von Begleitpersonen und weiteren Kursen\,\ndie besonders inklusiv und barrierefrei sind: www.vhs.at/barrierefreiheit\nAlle Materialien werden bereitgestellt. Die Materialkosten sind im Kursbetrag beinhaltet. Bitte eine Schürze mitnehmen.\nDer Workshopraum ist barrierefrei zugänglich. \nGebühr: 49 € \nFoto/Illustration:Pixabay
URL:https://kalender.seniorinnen.wien/event/kreatives-gestalten-fuer-seniorinnen-demenzfreundlich/2026-04-28/
LOCATION:VHS Simmering\, Gottschalkgasse 10\, Wien\, 1110\, Österreich
CATEGORIES:Demenz,Fit und Gesund
ATTACH;FMTTYPE=image/png:https://kalender.seniorinnen.wien/wp-content/uploads/2026/04/openclipart-vectors-pens-2024001_1920.png
ORGANIZER;CN="VHS Simmering":MAILTO:simmering@vhs.at
END:VEVENT
END:VCALENDAR