BEGIN:VCALENDAR
VERSION:2.0
PRODID:-//Wien für Senior:innen - ECPv6.15.17.1//NONSGML v1.0//EN
CALSCALE:GREGORIAN
METHOD:PUBLISH
X-ORIGINAL-URL:https://kalender.seniorinnen.wien
X-WR-CALDESC:Veranstaltungen für Wien für Senior:innen
REFRESH-INTERVAL;VALUE=DURATION:PT1H
X-Robots-Tag:noindex
X-PUBLISHED-TTL:PT1H
BEGIN:VTIMEZONE
TZID:Europe/Berlin
BEGIN:DAYLIGHT
TZOFFSETFROM:+0100
TZOFFSETTO:+0200
TZNAME:CEST
DTSTART:20240331T010000
END:DAYLIGHT
BEGIN:STANDARD
TZOFFSETFROM:+0200
TZOFFSETTO:+0100
TZNAME:CET
DTSTART:20241027T010000
END:STANDARD
BEGIN:DAYLIGHT
TZOFFSETFROM:+0100
TZOFFSETTO:+0200
TZNAME:CEST
DTSTART:20250330T010000
END:DAYLIGHT
BEGIN:STANDARD
TZOFFSETFROM:+0200
TZOFFSETTO:+0100
TZNAME:CET
DTSTART:20251026T010000
END:STANDARD
BEGIN:DAYLIGHT
TZOFFSETFROM:+0100
TZOFFSETTO:+0200
TZNAME:CEST
DTSTART:20260329T010000
END:DAYLIGHT
BEGIN:STANDARD
TZOFFSETFROM:+0200
TZOFFSETTO:+0100
TZNAME:CET
DTSTART:20261025T010000
END:STANDARD
END:VTIMEZONE
BEGIN:VEVENT
DTSTART;TZID=Europe/Berlin:20250113T093000
DTEND;TZID=Europe/Berlin:20250324T121500
DTSTAMP:20260421T071947
CREATED:20240416T094839Z
LAST-MODIFIED:20250110T110145Z
UID:6413-1736760600-1742818500@kalender.seniorinnen.wien
SUMMARY:Kopfstand im Ruhestand? Yoga-Anfängerkurs für 60+ 
DESCRIPTION:  \nDie Flexibilität im Alter zu erhalten könnte ein Grund sein mit Yoga zu beginnen. Eine verbesserte Durchblutung\, erholsamerer Schlaf oder eine vertiefte Atmung wären weitere. Die positiven Effekte\, die eine regelmäßige Yoga-Praxis bringen kann\, sind vielfältig. \nDoch wie beginnt man am besten damit? Ist es mit über 60 nicht schon zu spät? Am besten Sie finden es für sich selbst heraus! \nKommen Sie am 13.1. gerne zu einer gratis Schnuppereinheit vorbei! Ab dem 20.1. gilt es einen ermäßigten Tarif von 10 Euro zu zahlen. \nWo: Yogastudio H1\, Hormayrgasse 1\, 1170 Wien \nEs gibt zwei verschiedene Kurszeiten: \n\nMontags\, 9:30-10:45 Uhr\nMontags\, 11:00-12:15 Uhr\n\nBitte nur mit vorheriger Anmeldung (aus Platzgründen): \nTanja Feldbacher\ninfo@kukurma.at\nTel.: 0660 4884438
URL:https://kalender.seniorinnen.wien/event/kopfstand-im-ruhestand/2025-01-13/
LOCATION:H1\, Hormayrgasse 1\, Wien\, 1170
CATEGORIES:Fit und Gesund
ATTACH;FMTTYPE=image/jpeg:https://kalender.seniorinnen.wien/wp-content/uploads/2024/04/DSCF5545-177-e1713260560350.jpg
ORGANIZER;CN="KUKURMA":MAILTO:info@kukurma.at
END:VEVENT
END:VCALENDAR