BEGIN:VCALENDAR
VERSION:2.0
PRODID:-//Wien für Senior:innen - ECPv6.15.17.1//NONSGML v1.0//EN
CALSCALE:GREGORIAN
METHOD:PUBLISH
X-WR-CALNAME:Wien für Senior:innen
X-ORIGINAL-URL:https://kalender.seniorinnen.wien
X-WR-CALDESC:Veranstaltungen für Wien für Senior:innen
REFRESH-INTERVAL;VALUE=DURATION:PT1H
X-Robots-Tag:noindex
X-PUBLISHED-TTL:PT1H
BEGIN:VTIMEZONE
TZID:Europe/Berlin
BEGIN:DAYLIGHT
TZOFFSETFROM:+0100
TZOFFSETTO:+0200
TZNAME:CEST
DTSTART:20240331T010000
END:DAYLIGHT
BEGIN:STANDARD
TZOFFSETFROM:+0200
TZOFFSETTO:+0100
TZNAME:CET
DTSTART:20241027T010000
END:STANDARD
BEGIN:DAYLIGHT
TZOFFSETFROM:+0100
TZOFFSETTO:+0200
TZNAME:CEST
DTSTART:20250330T010000
END:DAYLIGHT
BEGIN:STANDARD
TZOFFSETFROM:+0200
TZOFFSETTO:+0100
TZNAME:CET
DTSTART:20251026T010000
END:STANDARD
BEGIN:DAYLIGHT
TZOFFSETFROM:+0100
TZOFFSETTO:+0200
TZNAME:CEST
DTSTART:20260329T010000
END:DAYLIGHT
BEGIN:STANDARD
TZOFFSETFROM:+0200
TZOFFSETTO:+0100
TZNAME:CET
DTSTART:20261025T010000
END:STANDARD
END:VTIMEZONE
BEGIN:VEVENT
DTSTART;TZID=Europe/Berlin:20251027T140000
DTEND;TZID=Europe/Berlin:20251027T160000
DTSTAMP:20260421T031839
CREATED:20250831T230052Z
LAST-MODIFIED:20250826T094301Z
UID:8892-1761573600-1761580800@kalender.seniorinnen.wien
SUMMARY:Improvisationstheater für Senior:innen
DESCRIPTION:Theaterworkshop: Improvisationstheater\nmit Schauspielerin Nina Quintero\nBeim Improtheater – dem “aus dem Bauch heraus Spielen”\, lernen Sie ganz im Hier und Jetzt zu sein. Gemeinsam probieren wir mit viel Humor und der angeleiteten Methode der Improvisation\, verschiedenste Dinge aus. Falsch gibt es nicht! Mit Freude erlaubt dieser Kurs es Ihnen\, Dinge auszuprobieren\, Fehler zu machen und diese kreativ in etwas Positives zu verwandeln.\nDadurch entstehen ganz besondere und schöne gemeinsame Momente. \nBitte beachten Sie\, dass es sich ingesamt um vier aufeinander aufbauende Termine handelt:\n6.10.\, 13.10.\, 20.10.\, 27.10. – Montag\, 14.00 bis 16.00 \nmax. 10 Teilnehmer:innen \nAnmeldung bis 26.9. \nTel.: 0676 8289 40055\nE-Mail: wienzimmer@fsw.at  – Betreff: Improtheater \nHinweis:\nDer Workshop “Improtheater für Senior:innen”\, findet im WienZimmer Gartenstadt\, einem Grätzlzentrum des Fonds Soziales Wien im Festsaal (Hochparterre) statt. Der Raum ist durch einen Stiegenlift vom Eingangsbereich ins Hochparterre\, barrierefrei zugänglich. Sollten Sie mit Rollstuhl kommen\, freuen wir uns über eine Begleitperson und dass Sie uns im Vorhinein informieren \nFoto: Freepik \n 
URL:https://kalender.seniorinnen.wien/event/improvisationstheater-fuer-seniorinnen/2025-10-27/
LOCATION:Grätzlzentrum WienZimmer Gartenstadt\, Jedleseerstraße 66-94/36/2\, Wien\, Wien\, 1210\, Austria
CATEGORIES:Monat der Senior:innen
ATTACH;FMTTYPE=image/jpeg:https://kalender.seniorinnen.wien/wp-content/uploads/2025/08/altere-gruppe-von-freunden-feiern-scaled-e1755782294762.jpg
ORGANIZER;CN="Gr%C3%A4tzlzentrum WienZimmer Gartenstadt":MAILTO:wienzimmer@fsw.at
END:VEVENT
BEGIN:VEVENT
DTSTART;TZID=Europe/Berlin:20251020T140000
DTEND;TZID=Europe/Berlin:20251020T160000
DTSTAMP:20260421T031839
CREATED:20250831T230052Z
LAST-MODIFIED:20250826T094301Z
UID:8891-1760968800-1760976000@kalender.seniorinnen.wien
SUMMARY:Improvisationstheater für Senior:innen
DESCRIPTION:Theaterworkshop: Improvisationstheater\nmit Schauspielerin Nina Quintero\nBeim Improtheater – dem “aus dem Bauch heraus Spielen”\, lernen Sie ganz im Hier und Jetzt zu sein. Gemeinsam probieren wir mit viel Humor und der angeleiteten Methode der Improvisation\, verschiedenste Dinge aus. Falsch gibt es nicht! Mit Freude erlaubt dieser Kurs es Ihnen\, Dinge auszuprobieren\, Fehler zu machen und diese kreativ in etwas Positives zu verwandeln.\nDadurch entstehen ganz besondere und schöne gemeinsame Momente. \nBitte beachten Sie\, dass es sich ingesamt um vier aufeinander aufbauende Termine handelt:\n6.10.\, 13.10.\, 20.10.\, 27.10. – Montag\, 14.00 bis 16.00 \nmax. 10 Teilnehmer:innen \nAnmeldung bis 26.9. \nTel.: 0676 8289 40055\nE-Mail: wienzimmer@fsw.at  – Betreff: Improtheater \nHinweis:\nDer Workshop “Improtheater für Senior:innen”\, findet im WienZimmer Gartenstadt\, einem Grätzlzentrum des Fonds Soziales Wien im Festsaal (Hochparterre) statt. Der Raum ist durch einen Stiegenlift vom Eingangsbereich ins Hochparterre\, barrierefrei zugänglich. Sollten Sie mit Rollstuhl kommen\, freuen wir uns über eine Begleitperson und dass Sie uns im Vorhinein informieren \nFoto: Freepik \n 
URL:https://kalender.seniorinnen.wien/event/improvisationstheater-fuer-seniorinnen/2025-10-20/
LOCATION:Grätzlzentrum WienZimmer Gartenstadt\, Jedleseerstraße 66-94/36/2\, Wien\, Wien\, 1210\, Austria
CATEGORIES:Monat der Senior:innen
ATTACH;FMTTYPE=image/jpeg:https://kalender.seniorinnen.wien/wp-content/uploads/2025/08/altere-gruppe-von-freunden-feiern-scaled-e1755782294762.jpg
ORGANIZER;CN="Gr%C3%A4tzlzentrum WienZimmer Gartenstadt":MAILTO:wienzimmer@fsw.at
END:VEVENT
BEGIN:VEVENT
DTSTART;TZID=Europe/Berlin:20251013T140000
DTEND;TZID=Europe/Berlin:20251013T160000
DTSTAMP:20260421T031839
CREATED:20250831T230052Z
LAST-MODIFIED:20250826T094301Z
UID:8890-1760364000-1760371200@kalender.seniorinnen.wien
SUMMARY:Improvisationstheater für Senior:innen
DESCRIPTION:Theaterworkshop: Improvisationstheater\nmit Schauspielerin Nina Quintero\nBeim Improtheater – dem “aus dem Bauch heraus Spielen”\, lernen Sie ganz im Hier und Jetzt zu sein. Gemeinsam probieren wir mit viel Humor und der angeleiteten Methode der Improvisation\, verschiedenste Dinge aus. Falsch gibt es nicht! Mit Freude erlaubt dieser Kurs es Ihnen\, Dinge auszuprobieren\, Fehler zu machen und diese kreativ in etwas Positives zu verwandeln.\nDadurch entstehen ganz besondere und schöne gemeinsame Momente. \nBitte beachten Sie\, dass es sich ingesamt um vier aufeinander aufbauende Termine handelt:\n6.10.\, 13.10.\, 20.10.\, 27.10. – Montag\, 14.00 bis 16.00 \nmax. 10 Teilnehmer:innen \nAnmeldung bis 26.9. \nTel.: 0676 8289 40055\nE-Mail: wienzimmer@fsw.at  – Betreff: Improtheater \nHinweis:\nDer Workshop “Improtheater für Senior:innen”\, findet im WienZimmer Gartenstadt\, einem Grätzlzentrum des Fonds Soziales Wien im Festsaal (Hochparterre) statt. Der Raum ist durch einen Stiegenlift vom Eingangsbereich ins Hochparterre\, barrierefrei zugänglich. Sollten Sie mit Rollstuhl kommen\, freuen wir uns über eine Begleitperson und dass Sie uns im Vorhinein informieren \nFoto: Freepik \n 
URL:https://kalender.seniorinnen.wien/event/improvisationstheater-fuer-seniorinnen/2025-10-13/
LOCATION:Grätzlzentrum WienZimmer Gartenstadt\, Jedleseerstraße 66-94/36/2\, Wien\, Wien\, 1210\, Austria
CATEGORIES:Monat der Senior:innen
ATTACH;FMTTYPE=image/jpeg:https://kalender.seniorinnen.wien/wp-content/uploads/2025/08/altere-gruppe-von-freunden-feiern-scaled-e1755782294762.jpg
ORGANIZER;CN="Gr%C3%A4tzlzentrum WienZimmer Gartenstadt":MAILTO:wienzimmer@fsw.at
END:VEVENT
BEGIN:VEVENT
DTSTART;TZID=Europe/Berlin:20251006T140000
DTEND;TZID=Europe/Berlin:20251006T160000
DTSTAMP:20260421T031839
CREATED:20250831T230052Z
LAST-MODIFIED:20250826T094300Z
UID:8885-1759759200-1759766400@kalender.seniorinnen.wien
SUMMARY:Improvisationstheater für Senior:innen
DESCRIPTION:Theaterworkshop: Improvisationstheater\nmit Schauspielerin Nina Quintero\nBeim Improtheater – dem “aus dem Bauch heraus Spielen”\, lernen Sie ganz im Hier und Jetzt zu sein. Gemeinsam probieren wir mit viel Humor und der angeleiteten Methode der Improvisation\, verschiedenste Dinge aus. Falsch gibt es nicht! Mit Freude erlaubt dieser Kurs es Ihnen\, Dinge auszuprobieren\, Fehler zu machen und diese kreativ in etwas Positives zu verwandeln.\nDadurch entstehen ganz besondere und schöne gemeinsame Momente. \nBitte beachten Sie\, dass es sich ingesamt um vier aufeinander aufbauende Termine handelt:\n6.10.\, 13.10.\, 20.10.\, 27.10. – Montag\, 14.00 bis 16.00 \nmax. 10 Teilnehmer:innen \nAnmeldung bis 26.9. \nTel.: 0676 8289 40055\nE-Mail: wienzimmer@fsw.at  – Betreff: Improtheater \nHinweis:\nDer Workshop “Improtheater für Senior:innen”\, findet im WienZimmer Gartenstadt\, einem Grätzlzentrum des Fonds Soziales Wien im Festsaal (Hochparterre) statt. Der Raum ist durch einen Stiegenlift vom Eingangsbereich ins Hochparterre\, barrierefrei zugänglich. Sollten Sie mit Rollstuhl kommen\, freuen wir uns über eine Begleitperson und dass Sie uns im Vorhinein informieren \nFoto: Freepik \n 
URL:https://kalender.seniorinnen.wien/event/improvisationstheater-fuer-seniorinnen/2025-10-06/
LOCATION:Grätzlzentrum WienZimmer Gartenstadt\, Jedleseerstraße 66-94/36/2\, Wien\, Wien\, 1210\, Austria
CATEGORIES:Monat der Senior:innen
ATTACH;FMTTYPE=image/jpeg:https://kalender.seniorinnen.wien/wp-content/uploads/2025/08/altere-gruppe-von-freunden-feiern-scaled-e1755782294762.jpg
ORGANIZER;CN="Gr%C3%A4tzlzentrum WienZimmer Gartenstadt":MAILTO:wienzimmer@fsw.at
END:VEVENT
END:VCALENDAR