BEGIN:VCALENDAR
VERSION:2.0
PRODID:-//Wien für Senior:innen - ECPv6.15.17.1//NONSGML v1.0//EN
CALSCALE:GREGORIAN
METHOD:PUBLISH
X-WR-CALNAME:Wien für Senior:innen
X-ORIGINAL-URL:https://kalender.seniorinnen.wien
X-WR-CALDESC:Veranstaltungen für Wien für Senior:innen
REFRESH-INTERVAL;VALUE=DURATION:PT1H
X-Robots-Tag:noindex
X-PUBLISHED-TTL:PT1H
BEGIN:VTIMEZONE
TZID:Europe/Berlin
BEGIN:DAYLIGHT
TZOFFSETFROM:+0100
TZOFFSETTO:+0200
TZNAME:CEST
DTSTART:20250330T010000
END:DAYLIGHT
BEGIN:STANDARD
TZOFFSETFROM:+0200
TZOFFSETTO:+0100
TZNAME:CET
DTSTART:20251026T010000
END:STANDARD
BEGIN:DAYLIGHT
TZOFFSETFROM:+0100
TZOFFSETTO:+0200
TZNAME:CEST
DTSTART:20260329T010000
END:DAYLIGHT
BEGIN:STANDARD
TZOFFSETFROM:+0200
TZOFFSETTO:+0100
TZNAME:CET
DTSTART:20261025T010000
END:STANDARD
BEGIN:DAYLIGHT
TZOFFSETFROM:+0100
TZOFFSETTO:+0200
TZNAME:CEST
DTSTART:20270328T010000
END:DAYLIGHT
BEGIN:STANDARD
TZOFFSETFROM:+0200
TZOFFSETTO:+0100
TZNAME:CET
DTSTART:20271031T010000
END:STANDARD
END:VTIMEZONE
BEGIN:VEVENT
DTSTART;TZID=Europe/Berlin:20260420T103000
DTEND;TZID=Europe/Berlin:20260420T113000
DTSTAMP:20260420T141609
CREATED:20260417T115254Z
LAST-MODIFIED:20260417T122446Z
UID:12745-1776681000-1776684600@kalender.seniorinnen.wien
SUMMARY:Gesundheitsgymnastik für Senior:innen
DESCRIPTION:Montags 7 x\, 13.04. bis 1.06.2026\, 10:30 bis 12 Uhr \nKursleitung: Elfriede Rodlmayr \nLaWie VHS Landstraße\nLandstraßer Hauptstraße 96\n1030 Wien \nDie Übungen der Gesundheitsgymnastik mobilisieren unbeweglich gewordene Körperpartien und kräftigen und dehnen\nvernachlässigte Muskelgruppen. Bei Übungen mit und ohne Kleingeräten verbessern Sie Haltung\, Kraft\, Ausdauer und\nBeweglichkeit. Tipps für gesunde Bewegung im Alltag ergänzen das Programm. \nGebühr: 58 € \nFoto: Pixabay
URL:https://kalender.seniorinnen.wien/event/gesundheitsgymnastik-fuer-seniorinnen/2026-04-20/
LOCATION:LaWie Landstraße\, Landstraßer Hauptstraße 96\, Wien\, Wien\, 1030\, Austria
CATEGORIES:Fit und Gesund
ATTACH;FMTTYPE=image/jpeg:https://kalender.seniorinnen.wien/wp-content/uploads/2026/04/tungart7-woman-8415734-scaled.jpg
ORGANIZER;CN="VHS Landstra%C3%9Fe":MAILTO:landstrasse@vhs.at
END:VEVENT
BEGIN:VEVENT
DTSTART;TZID=Europe/Berlin:20260413T103000
DTEND;TZID=Europe/Berlin:20260413T113000
DTSTAMP:20260420T141609
CREATED:20260417T115254Z
LAST-MODIFIED:20260417T122446Z
UID:12743-1776076200-1776079800@kalender.seniorinnen.wien
SUMMARY:Gesundheitsgymnastik für Senior:innen
DESCRIPTION:Montags 7 x\, 13.04. bis 1.06.2026\, 10:30 bis 12 Uhr \nKursleitung: Elfriede Rodlmayr \nLaWie VHS Landstraße\nLandstraßer Hauptstraße 96\n1030 Wien \nDie Übungen der Gesundheitsgymnastik mobilisieren unbeweglich gewordene Körperpartien und kräftigen und dehnen\nvernachlässigte Muskelgruppen. Bei Übungen mit und ohne Kleingeräten verbessern Sie Haltung\, Kraft\, Ausdauer und\nBeweglichkeit. Tipps für gesunde Bewegung im Alltag ergänzen das Programm. \nGebühr: 58 € \nFoto: Pixabay
URL:https://kalender.seniorinnen.wien/event/gesundheitsgymnastik-fuer-seniorinnen/2026-04-13/
LOCATION:LaWie Landstraße\, Landstraßer Hauptstraße 96\, Wien\, Wien\, 1030\, Austria
CATEGORIES:Fit und Gesund
ATTACH;FMTTYPE=image/jpeg:https://kalender.seniorinnen.wien/wp-content/uploads/2026/04/tungart7-woman-8415734-scaled.jpg
ORGANIZER;CN="VHS Landstra%C3%9Fe":MAILTO:landstrasse@vhs.at
END:VEVENT
END:VCALENDAR