BEGIN:VCALENDAR
VERSION:2.0
PRODID:-//Wien für Senior:innen - ECPv6.15.17.1//NONSGML v1.0//EN
CALSCALE:GREGORIAN
METHOD:PUBLISH
X-ORIGINAL-URL:https://kalender.seniorinnen.wien
X-WR-CALDESC:Veranstaltungen für Wien für Senior:innen
REFRESH-INTERVAL;VALUE=DURATION:PT1H
X-Robots-Tag:noindex
X-PUBLISHED-TTL:PT1H
BEGIN:VTIMEZONE
TZID:Europe/Berlin
BEGIN:DAYLIGHT
TZOFFSETFROM:+0100
TZOFFSETTO:+0200
TZNAME:CEST
DTSTART:20240331T010000
END:DAYLIGHT
BEGIN:STANDARD
TZOFFSETFROM:+0200
TZOFFSETTO:+0100
TZNAME:CET
DTSTART:20241027T010000
END:STANDARD
BEGIN:DAYLIGHT
TZOFFSETFROM:+0100
TZOFFSETTO:+0200
TZNAME:CEST
DTSTART:20250330T010000
END:DAYLIGHT
BEGIN:STANDARD
TZOFFSETFROM:+0200
TZOFFSETTO:+0100
TZNAME:CET
DTSTART:20251026T010000
END:STANDARD
BEGIN:DAYLIGHT
TZOFFSETFROM:+0100
TZOFFSETTO:+0200
TZNAME:CEST
DTSTART:20260329T010000
END:DAYLIGHT
BEGIN:STANDARD
TZOFFSETFROM:+0200
TZOFFSETTO:+0100
TZNAME:CET
DTSTART:20261025T010000
END:STANDARD
END:VTIMEZONE
BEGIN:VEVENT
DTSTART;TZID=Europe/Berlin:20251030T100000
DTEND;TZID=Europe/Berlin:20251030T110000
DTSTAMP:20260420T220139
CREATED:20250831T230049Z
LAST-MODIFIED:20250826T094126Z
UID:9012-1761818400-1761822000@kalender.seniorinnen.wien
SUMMARY:Gesund bewegen
DESCRIPTION:Bewegung hält fit und ist in jedem Alter empfehlenswert!\nVitalisierende Bewegungs- und Atemübungen für den ganzen Körper und jede Altersgruppe.\nDie Gruppe findet je nach Wetter im Arenbergpark oder in unseren Räumen statt. Bitte dementsprechende Kleidung bedenken. \nAnmeldung bis 8.10. \nTel.: 01 5123661 3250\nE-Mail: Nbz3@wiener.hilfswerk.at \nFoto: Freepik
URL:https://kalender.seniorinnen.wien/event/gesund-bewegen-2/2025-10-30/
LOCATION:Wiener Hilfswerk – Nachbarschaftszentrum 3 Landstraße\, Barichgasse 8\, Wien\, Wien\, 1030\, Austria
CATEGORIES:Monat der Senior:innen
ATTACH;FMTTYPE=image/jpeg:https://kalender.seniorinnen.wien/wp-content/uploads/2025/08/AdobeStock_305465055-cHalfpoint-scaled-e1755854598954.jpeg
ORGANIZER;CN="Wiener Hilfswerk - Nachbarschaftszentrum 3 Landstra%C3%9Fe":MAILTO:Jenny.reuter@wiener.hilfswerk.at
END:VEVENT
BEGIN:VEVENT
DTSTART;TZID=Europe/Berlin:20251023T100000
DTEND;TZID=Europe/Berlin:20251023T110000
DTSTAMP:20260420T220139
CREATED:20250831T230049Z
LAST-MODIFIED:20250826T094125Z
UID:9011-1761213600-1761217200@kalender.seniorinnen.wien
SUMMARY:Gesund bewegen
DESCRIPTION:Bewegung hält fit und ist in jedem Alter empfehlenswert!\nVitalisierende Bewegungs- und Atemübungen für den ganzen Körper und jede Altersgruppe.\nDie Gruppe findet je nach Wetter im Arenbergpark oder in unseren Räumen statt. Bitte dementsprechende Kleidung bedenken. \nAnmeldung bis 8.10. \nTel.: 01 5123661 3250\nE-Mail: Nbz3@wiener.hilfswerk.at \nFoto: Freepik
URL:https://kalender.seniorinnen.wien/event/gesund-bewegen-2/2025-10-23/
LOCATION:Wiener Hilfswerk – Nachbarschaftszentrum 3 Landstraße\, Barichgasse 8\, Wien\, Wien\, 1030\, Austria
CATEGORIES:Monat der Senior:innen
ATTACH;FMTTYPE=image/jpeg:https://kalender.seniorinnen.wien/wp-content/uploads/2025/08/AdobeStock_305465055-cHalfpoint-scaled-e1755854598954.jpeg
ORGANIZER;CN="Wiener Hilfswerk - Nachbarschaftszentrum 3 Landstra%C3%9Fe":MAILTO:Jenny.reuter@wiener.hilfswerk.at
END:VEVENT
BEGIN:VEVENT
DTSTART;TZID=Europe/Berlin:20251009T100000
DTEND;TZID=Europe/Berlin:20251009T110000
DTSTAMP:20260420T220139
CREATED:20250831T230049Z
LAST-MODIFIED:20250826T094125Z
UID:9000-1760004000-1760007600@kalender.seniorinnen.wien
SUMMARY:Gesund bewegen
DESCRIPTION:Bewegung hält fit und ist in jedem Alter empfehlenswert!\nVitalisierende Bewegungs- und Atemübungen für den ganzen Körper und jede Altersgruppe.\nDie Gruppe findet je nach Wetter im Arenbergpark oder in unseren Räumen statt. Bitte dementsprechende Kleidung bedenken. \nAnmeldung bis 8.10. \nTel.: 01 5123661 3250\nE-Mail: Nbz3@wiener.hilfswerk.at \nFoto: Freepik
URL:https://kalender.seniorinnen.wien/event/gesund-bewegen-2/2025-10-09/
LOCATION:Wiener Hilfswerk – Nachbarschaftszentrum 3 Landstraße\, Barichgasse 8\, Wien\, Wien\, 1030\, Austria
CATEGORIES:Monat der Senior:innen
ATTACH;FMTTYPE=image/jpeg:https://kalender.seniorinnen.wien/wp-content/uploads/2025/08/AdobeStock_305465055-cHalfpoint-scaled-e1755854598954.jpeg
ORGANIZER;CN="Wiener Hilfswerk - Nachbarschaftszentrum 3 Landstra%C3%9Fe":MAILTO:Jenny.reuter@wiener.hilfswerk.at
END:VEVENT
END:VCALENDAR