BEGIN:VCALENDAR
VERSION:2.0
PRODID:-//Wien für Senior:innen - ECPv6.15.17.1//NONSGML v1.0//EN
CALSCALE:GREGORIAN
METHOD:PUBLISH
X-WR-CALNAME:Wien für Senior:innen
X-ORIGINAL-URL:https://kalender.seniorinnen.wien
X-WR-CALDESC:Veranstaltungen für Wien für Senior:innen
REFRESH-INTERVAL;VALUE=DURATION:PT1H
X-Robots-Tag:noindex
X-PUBLISHED-TTL:PT1H
BEGIN:VTIMEZONE
TZID:Europe/Berlin
BEGIN:DAYLIGHT
TZOFFSETFROM:+0100
TZOFFSETTO:+0200
TZNAME:CEST
DTSTART:20240331T010000
END:DAYLIGHT
BEGIN:STANDARD
TZOFFSETFROM:+0200
TZOFFSETTO:+0100
TZNAME:CET
DTSTART:20241027T010000
END:STANDARD
BEGIN:DAYLIGHT
TZOFFSETFROM:+0100
TZOFFSETTO:+0200
TZNAME:CEST
DTSTART:20250330T010000
END:DAYLIGHT
BEGIN:STANDARD
TZOFFSETFROM:+0200
TZOFFSETTO:+0100
TZNAME:CET
DTSTART:20251026T010000
END:STANDARD
BEGIN:DAYLIGHT
TZOFFSETFROM:+0100
TZOFFSETTO:+0200
TZNAME:CEST
DTSTART:20260329T010000
END:DAYLIGHT
BEGIN:STANDARD
TZOFFSETFROM:+0200
TZOFFSETTO:+0100
TZNAME:CET
DTSTART:20261025T010000
END:STANDARD
END:VTIMEZONE
BEGIN:VEVENT
DTSTART;TZID=Europe/Berlin:20251210T140000
DTEND;TZID=Europe/Berlin:20251210T160000
DTSTAMP:20260426T020729
CREATED:20250312T175453Z
LAST-MODIFIED:20250312T175453Z
UID:7548-1765375200-1765382400@kalender.seniorinnen.wien
SUMMARY:Gesprächsgruppe für Männer - Mein:e Partner:in hat Demenz
DESCRIPTION:In Österreich sind ungefähr ein Viertel aller betreuenden und pflegenden Angehörigen Männer. Zu einem großen Anteil betreuen sie ihre an Demenz erkrankte Partner:in.\nDer Gesprächskreis „Mein:e Partner:in hat Demenz“ will Männer in ihrem Betreuungs- und Pflegeengagement unterstützen und stärken. Der Austausch in der Gruppe gibt Rückhalt und Unterstützung bei der Betreuung und Pflege. Die Erfahrungen aller Gruppenteilnehmer*innen und das Wissen des Gruppenleiters geben wichtige Impulse für die eigene Betreuungssituation. \nEs handelt sich um ein Bildungsangebot der Caritas-Angehörigenakademie. Die Gruppe wird geleitet von René Böckl. \nAnmeldung unter Tel 0676-682 44 75 oder rene.boeckl@caritas-wien.at \nEs wird um einen Beitrag von € 15\,- pro Termin ersucht. Bei Pflegegeldbezug ist eine Förderung durch das Sozialministeriums-Service möglich. \nTermine 2025:\njeweils Mittwoch\, 14–16 Uhr\nStrozzigasse 5\, 1080 Wien \n1. Halbjahr: \n\n15. Jänner\n12. Februar\n19. März\n23. April\n14. Mai\n18. Juni\n\n2. Halbjahr: \n\n10. September\n15. Oktober\n12. November\n10. Dezember
URL:https://kalender.seniorinnen.wien/event/gespraechsgruppe-fuer-maenner-meine-partnerin-hat-demenz/2025-12-10/
LOCATION:Caritas Angehörige und Demenz\, Strozzigasse 5\, Wien\, 1080
CATEGORIES:Begegnung,Demenz
ATTACH;FMTTYPE=image/jpeg:https://kalender.seniorinnen.wien/wp-content/uploads/2024/03/embrace-4788167_1920-e1710427586741.jpg
END:VEVENT
BEGIN:VEVENT
DTSTART;TZID=Europe/Berlin:20251112T140000
DTEND;TZID=Europe/Berlin:20251112T160000
DTSTAMP:20260426T020729
CREATED:20250312T175453Z
LAST-MODIFIED:20250312T175453Z
UID:7547-1762956000-1762963200@kalender.seniorinnen.wien
SUMMARY:Gesprächsgruppe für Männer - Mein:e Partner:in hat Demenz
DESCRIPTION:In Österreich sind ungefähr ein Viertel aller betreuenden und pflegenden Angehörigen Männer. Zu einem großen Anteil betreuen sie ihre an Demenz erkrankte Partner:in.\nDer Gesprächskreis „Mein:e Partner:in hat Demenz“ will Männer in ihrem Betreuungs- und Pflegeengagement unterstützen und stärken. Der Austausch in der Gruppe gibt Rückhalt und Unterstützung bei der Betreuung und Pflege. Die Erfahrungen aller Gruppenteilnehmer*innen und das Wissen des Gruppenleiters geben wichtige Impulse für die eigene Betreuungssituation. \nEs handelt sich um ein Bildungsangebot der Caritas-Angehörigenakademie. Die Gruppe wird geleitet von René Böckl. \nAnmeldung unter Tel 0676-682 44 75 oder rene.boeckl@caritas-wien.at \nEs wird um einen Beitrag von € 15\,- pro Termin ersucht. Bei Pflegegeldbezug ist eine Förderung durch das Sozialministeriums-Service möglich. \nTermine 2025:\njeweils Mittwoch\, 14–16 Uhr\nStrozzigasse 5\, 1080 Wien \n1. Halbjahr: \n\n15. Jänner\n12. Februar\n19. März\n23. April\n14. Mai\n18. Juni\n\n2. Halbjahr: \n\n10. September\n15. Oktober\n12. November\n10. Dezember
URL:https://kalender.seniorinnen.wien/event/gespraechsgruppe-fuer-maenner-meine-partnerin-hat-demenz/2025-11-12/
LOCATION:Caritas Angehörige und Demenz\, Strozzigasse 5\, Wien\, 1080
CATEGORIES:Begegnung,Demenz
ATTACH;FMTTYPE=image/jpeg:https://kalender.seniorinnen.wien/wp-content/uploads/2024/03/embrace-4788167_1920-e1710427586741.jpg
END:VEVENT
BEGIN:VEVENT
DTSTART;TZID=Europe/Berlin:20251015T140000
DTEND;TZID=Europe/Berlin:20251015T160000
DTSTAMP:20260426T020729
CREATED:20250312T175453Z
LAST-MODIFIED:20250312T175453Z
UID:7546-1760536800-1760544000@kalender.seniorinnen.wien
SUMMARY:Gesprächsgruppe für Männer - Mein:e Partner:in hat Demenz
DESCRIPTION:In Österreich sind ungefähr ein Viertel aller betreuenden und pflegenden Angehörigen Männer. Zu einem großen Anteil betreuen sie ihre an Demenz erkrankte Partner:in.\nDer Gesprächskreis „Mein:e Partner:in hat Demenz“ will Männer in ihrem Betreuungs- und Pflegeengagement unterstützen und stärken. Der Austausch in der Gruppe gibt Rückhalt und Unterstützung bei der Betreuung und Pflege. Die Erfahrungen aller Gruppenteilnehmer*innen und das Wissen des Gruppenleiters geben wichtige Impulse für die eigene Betreuungssituation. \nEs handelt sich um ein Bildungsangebot der Caritas-Angehörigenakademie. Die Gruppe wird geleitet von René Böckl. \nAnmeldung unter Tel 0676-682 44 75 oder rene.boeckl@caritas-wien.at \nEs wird um einen Beitrag von € 15\,- pro Termin ersucht. Bei Pflegegeldbezug ist eine Förderung durch das Sozialministeriums-Service möglich. \nTermine 2025:\njeweils Mittwoch\, 14–16 Uhr\nStrozzigasse 5\, 1080 Wien \n1. Halbjahr: \n\n15. Jänner\n12. Februar\n19. März\n23. April\n14. Mai\n18. Juni\n\n2. Halbjahr: \n\n10. September\n15. Oktober\n12. November\n10. Dezember
URL:https://kalender.seniorinnen.wien/event/gespraechsgruppe-fuer-maenner-meine-partnerin-hat-demenz/2025-10-15/
LOCATION:Caritas Angehörige und Demenz\, Strozzigasse 5\, Wien\, 1080
CATEGORIES:Begegnung,Demenz
ATTACH;FMTTYPE=image/jpeg:https://kalender.seniorinnen.wien/wp-content/uploads/2024/03/embrace-4788167_1920-e1710427586741.jpg
END:VEVENT
BEGIN:VEVENT
DTSTART;TZID=Europe/Berlin:20250910T140000
DTEND;TZID=Europe/Berlin:20250910T160000
DTSTAMP:20260426T020729
CREATED:20250312T175453Z
LAST-MODIFIED:20250312T175453Z
UID:7545-1757512800-1757520000@kalender.seniorinnen.wien
SUMMARY:Gesprächsgruppe für Männer - Mein:e Partner:in hat Demenz
DESCRIPTION:In Österreich sind ungefähr ein Viertel aller betreuenden und pflegenden Angehörigen Männer. Zu einem großen Anteil betreuen sie ihre an Demenz erkrankte Partner:in.\nDer Gesprächskreis „Mein:e Partner:in hat Demenz“ will Männer in ihrem Betreuungs- und Pflegeengagement unterstützen und stärken. Der Austausch in der Gruppe gibt Rückhalt und Unterstützung bei der Betreuung und Pflege. Die Erfahrungen aller Gruppenteilnehmer*innen und das Wissen des Gruppenleiters geben wichtige Impulse für die eigene Betreuungssituation. \nEs handelt sich um ein Bildungsangebot der Caritas-Angehörigenakademie. Die Gruppe wird geleitet von René Böckl. \nAnmeldung unter Tel 0676-682 44 75 oder rene.boeckl@caritas-wien.at \nEs wird um einen Beitrag von € 15\,- pro Termin ersucht. Bei Pflegegeldbezug ist eine Förderung durch das Sozialministeriums-Service möglich. \nTermine 2025:\njeweils Mittwoch\, 14–16 Uhr\nStrozzigasse 5\, 1080 Wien \n1. Halbjahr: \n\n15. Jänner\n12. Februar\n19. März\n23. April\n14. Mai\n18. Juni\n\n2. Halbjahr: \n\n10. September\n15. Oktober\n12. November\n10. Dezember
URL:https://kalender.seniorinnen.wien/event/gespraechsgruppe-fuer-maenner-meine-partnerin-hat-demenz/2025-09-10/
LOCATION:Caritas Angehörige und Demenz\, Strozzigasse 5\, Wien\, 1080
CATEGORIES:Begegnung,Demenz
ATTACH;FMTTYPE=image/jpeg:https://kalender.seniorinnen.wien/wp-content/uploads/2024/03/embrace-4788167_1920-e1710427586741.jpg
END:VEVENT
BEGIN:VEVENT
DTSTART;TZID=Europe/Berlin:20250618T140000
DTEND;TZID=Europe/Berlin:20250618T160000
DTSTAMP:20260426T020729
CREATED:20250312T175453Z
LAST-MODIFIED:20250312T175453Z
UID:7544-1750255200-1750262400@kalender.seniorinnen.wien
SUMMARY:Gesprächsgruppe für Männer - Mein:e Partner:in hat Demenz
DESCRIPTION:In Österreich sind ungefähr ein Viertel aller betreuenden und pflegenden Angehörigen Männer. Zu einem großen Anteil betreuen sie ihre an Demenz erkrankte Partner:in.\nDer Gesprächskreis „Mein:e Partner:in hat Demenz“ will Männer in ihrem Betreuungs- und Pflegeengagement unterstützen und stärken. Der Austausch in der Gruppe gibt Rückhalt und Unterstützung bei der Betreuung und Pflege. Die Erfahrungen aller Gruppenteilnehmer*innen und das Wissen des Gruppenleiters geben wichtige Impulse für die eigene Betreuungssituation. \nEs handelt sich um ein Bildungsangebot der Caritas-Angehörigenakademie. Die Gruppe wird geleitet von René Böckl. \nAnmeldung unter Tel 0676-682 44 75 oder rene.boeckl@caritas-wien.at \nEs wird um einen Beitrag von € 15\,- pro Termin ersucht. Bei Pflegegeldbezug ist eine Förderung durch das Sozialministeriums-Service möglich. \nTermine 2025:\njeweils Mittwoch\, 14–16 Uhr\nStrozzigasse 5\, 1080 Wien \n1. Halbjahr: \n\n15. Jänner\n12. Februar\n19. März\n23. April\n14. Mai\n18. Juni\n\n2. Halbjahr: \n\n10. September\n15. Oktober\n12. November\n10. Dezember
URL:https://kalender.seniorinnen.wien/event/gespraechsgruppe-fuer-maenner-meine-partnerin-hat-demenz/2025-06-18/
LOCATION:Caritas Angehörige und Demenz\, Strozzigasse 5\, Wien\, 1080
CATEGORIES:Begegnung,Demenz
ATTACH;FMTTYPE=image/jpeg:https://kalender.seniorinnen.wien/wp-content/uploads/2024/03/embrace-4788167_1920-e1710427586741.jpg
END:VEVENT
BEGIN:VEVENT
DTSTART;TZID=Europe/Berlin:20250514T140000
DTEND;TZID=Europe/Berlin:20250514T160000
DTSTAMP:20260426T020729
CREATED:20250312T175453Z
LAST-MODIFIED:20250312T175453Z
UID:7543-1747231200-1747238400@kalender.seniorinnen.wien
SUMMARY:Gesprächsgruppe für Männer - Mein:e Partner:in hat Demenz
DESCRIPTION:In Österreich sind ungefähr ein Viertel aller betreuenden und pflegenden Angehörigen Männer. Zu einem großen Anteil betreuen sie ihre an Demenz erkrankte Partner:in.\nDer Gesprächskreis „Mein:e Partner:in hat Demenz“ will Männer in ihrem Betreuungs- und Pflegeengagement unterstützen und stärken. Der Austausch in der Gruppe gibt Rückhalt und Unterstützung bei der Betreuung und Pflege. Die Erfahrungen aller Gruppenteilnehmer*innen und das Wissen des Gruppenleiters geben wichtige Impulse für die eigene Betreuungssituation. \nEs handelt sich um ein Bildungsangebot der Caritas-Angehörigenakademie. Die Gruppe wird geleitet von René Böckl. \nAnmeldung unter Tel 0676-682 44 75 oder rene.boeckl@caritas-wien.at \nEs wird um einen Beitrag von € 15\,- pro Termin ersucht. Bei Pflegegeldbezug ist eine Förderung durch das Sozialministeriums-Service möglich. \nTermine 2025:\njeweils Mittwoch\, 14–16 Uhr\nStrozzigasse 5\, 1080 Wien \n1. Halbjahr: \n\n15. Jänner\n12. Februar\n19. März\n23. April\n14. Mai\n18. Juni\n\n2. Halbjahr: \n\n10. September\n15. Oktober\n12. November\n10. Dezember
URL:https://kalender.seniorinnen.wien/event/gespraechsgruppe-fuer-maenner-meine-partnerin-hat-demenz/2025-05-14/
LOCATION:Caritas Angehörige und Demenz\, Strozzigasse 5\, Wien\, 1080
CATEGORIES:Begegnung,Demenz
ATTACH;FMTTYPE=image/jpeg:https://kalender.seniorinnen.wien/wp-content/uploads/2024/03/embrace-4788167_1920-e1710427586741.jpg
END:VEVENT
BEGIN:VEVENT
DTSTART;TZID=Europe/Berlin:20250423T140000
DTEND;TZID=Europe/Berlin:20250423T160000
DTSTAMP:20260426T020729
CREATED:20250312T175453Z
LAST-MODIFIED:20250312T175453Z
UID:7542-1745416800-1745424000@kalender.seniorinnen.wien
SUMMARY:Gesprächsgruppe für Männer - Mein:e Partner:in hat Demenz
DESCRIPTION:In Österreich sind ungefähr ein Viertel aller betreuenden und pflegenden Angehörigen Männer. Zu einem großen Anteil betreuen sie ihre an Demenz erkrankte Partner:in.\nDer Gesprächskreis „Mein:e Partner:in hat Demenz“ will Männer in ihrem Betreuungs- und Pflegeengagement unterstützen und stärken. Der Austausch in der Gruppe gibt Rückhalt und Unterstützung bei der Betreuung und Pflege. Die Erfahrungen aller Gruppenteilnehmer*innen und das Wissen des Gruppenleiters geben wichtige Impulse für die eigene Betreuungssituation. \nEs handelt sich um ein Bildungsangebot der Caritas-Angehörigenakademie. Die Gruppe wird geleitet von René Böckl. \nAnmeldung unter Tel 0676-682 44 75 oder rene.boeckl@caritas-wien.at \nEs wird um einen Beitrag von € 15\,- pro Termin ersucht. Bei Pflegegeldbezug ist eine Förderung durch das Sozialministeriums-Service möglich. \nTermine 2025:\njeweils Mittwoch\, 14–16 Uhr\nStrozzigasse 5\, 1080 Wien \n1. Halbjahr: \n\n15. Jänner\n12. Februar\n19. März\n23. April\n14. Mai\n18. Juni\n\n2. Halbjahr: \n\n10. September\n15. Oktober\n12. November\n10. Dezember
URL:https://kalender.seniorinnen.wien/event/gespraechsgruppe-fuer-maenner-meine-partnerin-hat-demenz/2025-04-23/
LOCATION:Caritas Angehörige und Demenz\, Strozzigasse 5\, Wien\, 1080
CATEGORIES:Begegnung,Demenz
ATTACH;FMTTYPE=image/jpeg:https://kalender.seniorinnen.wien/wp-content/uploads/2024/03/embrace-4788167_1920-e1710427586741.jpg
END:VEVENT
BEGIN:VEVENT
DTSTART;TZID=Europe/Berlin:20250319T140000
DTEND;TZID=Europe/Berlin:20250319T160000
DTSTAMP:20260426T020729
CREATED:20250312T175453Z
LAST-MODIFIED:20250312T175453Z
UID:7541-1742392800-1742400000@kalender.seniorinnen.wien
SUMMARY:Gesprächsgruppe für Männer - Mein:e Partner:in hat Demenz
DESCRIPTION:In Österreich sind ungefähr ein Viertel aller betreuenden und pflegenden Angehörigen Männer. Zu einem großen Anteil betreuen sie ihre an Demenz erkrankte Partner:in.\nDer Gesprächskreis „Mein:e Partner:in hat Demenz“ will Männer in ihrem Betreuungs- und Pflegeengagement unterstützen und stärken. Der Austausch in der Gruppe gibt Rückhalt und Unterstützung bei der Betreuung und Pflege. Die Erfahrungen aller Gruppenteilnehmer*innen und das Wissen des Gruppenleiters geben wichtige Impulse für die eigene Betreuungssituation. \nEs handelt sich um ein Bildungsangebot der Caritas-Angehörigenakademie. Die Gruppe wird geleitet von René Böckl. \nAnmeldung unter Tel 0676-682 44 75 oder rene.boeckl@caritas-wien.at \nEs wird um einen Beitrag von € 15\,- pro Termin ersucht. Bei Pflegegeldbezug ist eine Förderung durch das Sozialministeriums-Service möglich. \nTermine 2025:\njeweils Mittwoch\, 14–16 Uhr\nStrozzigasse 5\, 1080 Wien \n1. Halbjahr: \n\n15. Jänner\n12. Februar\n19. März\n23. April\n14. Mai\n18. Juni\n\n2. Halbjahr: \n\n10. September\n15. Oktober\n12. November\n10. Dezember
URL:https://kalender.seniorinnen.wien/event/gespraechsgruppe-fuer-maenner-meine-partnerin-hat-demenz/2025-03-19/
LOCATION:Caritas Angehörige und Demenz\, Strozzigasse 5\, Wien\, 1080
CATEGORIES:Begegnung,Demenz
ATTACH;FMTTYPE=image/jpeg:https://kalender.seniorinnen.wien/wp-content/uploads/2024/03/embrace-4788167_1920-e1710427586741.jpg
END:VEVENT
END:VCALENDAR