BEGIN:VCALENDAR
VERSION:2.0
PRODID:-//Wien für Senior:innen - ECPv6.15.17.1//NONSGML v1.0//EN
CALSCALE:GREGORIAN
METHOD:PUBLISH
X-ORIGINAL-URL:https://kalender.seniorinnen.wien
X-WR-CALDESC:Veranstaltungen für Wien für Senior:innen
REFRESH-INTERVAL;VALUE=DURATION:PT1H
X-Robots-Tag:noindex
X-PUBLISHED-TTL:PT1H
BEGIN:VTIMEZONE
TZID:Europe/Berlin
BEGIN:DAYLIGHT
TZOFFSETFROM:+0100
TZOFFSETTO:+0200
TZNAME:CEST
DTSTART:20240331T010000
END:DAYLIGHT
BEGIN:STANDARD
TZOFFSETFROM:+0200
TZOFFSETTO:+0100
TZNAME:CET
DTSTART:20241027T010000
END:STANDARD
BEGIN:DAYLIGHT
TZOFFSETFROM:+0100
TZOFFSETTO:+0200
TZNAME:CEST
DTSTART:20250330T010000
END:DAYLIGHT
BEGIN:STANDARD
TZOFFSETFROM:+0200
TZOFFSETTO:+0100
TZNAME:CET
DTSTART:20251026T010000
END:STANDARD
BEGIN:DAYLIGHT
TZOFFSETFROM:+0100
TZOFFSETTO:+0200
TZNAME:CEST
DTSTART:20260329T010000
END:DAYLIGHT
BEGIN:STANDARD
TZOFFSETFROM:+0200
TZOFFSETTO:+0100
TZNAME:CET
DTSTART:20261025T010000
END:STANDARD
END:VTIMEZONE
BEGIN:VEVENT
DTSTART;TZID=Europe/Berlin:20251002T143000
DTEND;TZID=Europe/Berlin:20251002T153000
DTSTAMP:20260423T170201
CREATED:20250831T230033Z
LAST-MODIFIED:20250826T113635Z
UID:8193-1759415400-1759419000@kalender.seniorinnen.wien
SUMMARY:Führung: Wasserturm Favoriten und Wiener-Wasser-Ausstellung
DESCRIPTION:Besuchen Sie den Wasserturm Favoriten und erfahren Sie mehr über die Wiener Wasserversorgung. Im Turm können Sie eine Fotoausstellung zum Thema 150 Jahre Wiener Wasser besuchen. Der (nicht barrierefreie) Aufstieg zur Aussichtsterrasse mit Blick auf ganz Wien bildet den Abschluss der Führung. \nMax. 30 Teilnehmer:innen \nAnmeldung: 2.9. bis 30.09.2025\, \nTel.: 01 59 959 31 006 \nE-Mail:  oeffentlichkeit@ma31.wien.gv.at \nWebsite: www.wien.gv.at/wienwasser \nFoto: Wiener Wasser / Zinner
URL:https://kalender.seniorinnen.wien/event/fuehrung-wasserturm-favoriten-und-wiener-wasser-ausstellung/2025-10-02/
LOCATION:Wasserturm Favoriten\, Windtenstraße 3\, Wien\, 1100
CATEGORIES:Ausflüge,Monat der Senior:innen
ATTACH;FMTTYPE=image/jpeg:https://kalender.seniorinnen.wien/wp-content/uploads/2024/08/WasserturmFavoriten_C_WienerWasser_Zinner-scaled-e1756208156347.jpg
END:VEVENT
END:VCALENDAR