BEGIN:VCALENDAR
VERSION:2.0
PRODID:-//Wien für Senior:innen - ECPv6.15.17.1//NONSGML v1.0//EN
CALSCALE:GREGORIAN
METHOD:PUBLISH
X-WR-CALNAME:Wien für Senior:innen
X-ORIGINAL-URL:https://kalender.seniorinnen.wien
X-WR-CALDESC:Veranstaltungen für Wien für Senior:innen
REFRESH-INTERVAL;VALUE=DURATION:PT1H
X-Robots-Tag:noindex
X-PUBLISHED-TTL:PT1H
BEGIN:VTIMEZONE
TZID:Europe/Berlin
BEGIN:DAYLIGHT
TZOFFSETFROM:+0100
TZOFFSETTO:+0200
TZNAME:CEST
DTSTART:20240331T010000
END:DAYLIGHT
BEGIN:STANDARD
TZOFFSETFROM:+0200
TZOFFSETTO:+0100
TZNAME:CET
DTSTART:20241027T010000
END:STANDARD
BEGIN:DAYLIGHT
TZOFFSETFROM:+0100
TZOFFSETTO:+0200
TZNAME:CEST
DTSTART:20250330T010000
END:DAYLIGHT
BEGIN:STANDARD
TZOFFSETFROM:+0200
TZOFFSETTO:+0100
TZNAME:CET
DTSTART:20251026T010000
END:STANDARD
BEGIN:DAYLIGHT
TZOFFSETFROM:+0100
TZOFFSETTO:+0200
TZNAME:CEST
DTSTART:20260329T010000
END:DAYLIGHT
BEGIN:STANDARD
TZOFFSETFROM:+0200
TZOFFSETTO:+0100
TZNAME:CET
DTSTART:20261025T010000
END:STANDARD
END:VTIMEZONE
BEGIN:VEVENT
DTSTART;TZID=Europe/Berlin:20251029T140000
DTEND;TZID=Europe/Berlin:20251029T150000
DTSTAMP:20260420T195541
CREATED:20250831T230050Z
LAST-MODIFIED:20250902T091152Z
UID:9659-1761746400-1761750000@kalender.seniorinnen.wien
SUMMARY:Führung: SKANDALKUNST!
DESCRIPTION:Die Motive zu grell\, die Themen zu drastisch\, Werke viel zu abstrakt.\nNicht selten empört Kunst\, bevor sie begeistert! Edvard Munch\, Kirchner und Nolde leben am Limit. Ihr Schaffen löst Wut und Entrüstung aus. Yves Kleins legendäres Blau ruft scharfe Kritik auf den Plan\, der Italiener Cattelan schlägt mit bitterem Spott Tabus und Institutionen in Stücke. Doch wer entscheidet\, wann Kunst die Gesellschaft in Aufruhr versetzt? Diese Tour erstaunt mit Werken\, die die Welt erst erschüttert und dann ikonischen Ruhm erlangt haben. \nmax. 20 Teilnehmer:innen \nAnmeldung bis zum Veranstaltungstag \nWebsite: www.hortencollection.com/programm  \nFoto: Ernst Ludwig Kirchner\, Zwei nackte Frauen im Wald\, 1909\nHeidi Horten Collection
URL:https://kalender.seniorinnen.wien/event/fuehrung-skandalkunst/2025-10-29/
LOCATION:Heidi Horten Collection\, Hanuschgasse 3\, Wien\, 1010
CATEGORIES:Kunst und Kultur,Monat der Senior:innen
ATTACH;FMTTYPE=image/jpeg:https://kalender.seniorinnen.wien/wp-content/uploads/2025/08/HHC1_Kirchner.jpg
END:VEVENT
BEGIN:VEVENT
DTSTART;TZID=Europe/Berlin:20251008T140000
DTEND;TZID=Europe/Berlin:20251008T150000
DTSTAMP:20260420T195541
CREATED:20250831T230050Z
LAST-MODIFIED:20250902T091152Z
UID:9657-1759932000-1759935600@kalender.seniorinnen.wien
SUMMARY:Führung: SKANDALKUNST!
DESCRIPTION:Die Motive zu grell\, die Themen zu drastisch\, Werke viel zu abstrakt.\nNicht selten empört Kunst\, bevor sie begeistert! Edvard Munch\, Kirchner und Nolde leben am Limit. Ihr Schaffen löst Wut und Entrüstung aus. Yves Kleins legendäres Blau ruft scharfe Kritik auf den Plan\, der Italiener Cattelan schlägt mit bitterem Spott Tabus und Institutionen in Stücke. Doch wer entscheidet\, wann Kunst die Gesellschaft in Aufruhr versetzt? Diese Tour erstaunt mit Werken\, die die Welt erst erschüttert und dann ikonischen Ruhm erlangt haben. \nmax. 20 Teilnehmer:innen \nAnmeldung bis zum Veranstaltungstag \nWebsite: www.hortencollection.com/programm  \nFoto: Ernst Ludwig Kirchner\, Zwei nackte Frauen im Wald\, 1909\nHeidi Horten Collection
URL:https://kalender.seniorinnen.wien/event/fuehrung-skandalkunst/2025-10-08/
LOCATION:Heidi Horten Collection\, Hanuschgasse 3\, Wien\, 1010
CATEGORIES:Kunst und Kultur,Monat der Senior:innen
ATTACH;FMTTYPE=image/jpeg:https://kalender.seniorinnen.wien/wp-content/uploads/2025/08/HHC1_Kirchner.jpg
END:VEVENT
END:VCALENDAR