BEGIN:VCALENDAR
VERSION:2.0
PRODID:-//Wien für Senior:innen - ECPv6.15.17.1//NONSGML v1.0//EN
CALSCALE:GREGORIAN
METHOD:PUBLISH
X-ORIGINAL-URL:https://kalender.seniorinnen.wien
X-WR-CALDESC:Veranstaltungen für Wien für Senior:innen
REFRESH-INTERVAL;VALUE=DURATION:PT1H
X-Robots-Tag:noindex
X-PUBLISHED-TTL:PT1H
BEGIN:VTIMEZONE
TZID:Europe/Berlin
BEGIN:DAYLIGHT
TZOFFSETFROM:+0100
TZOFFSETTO:+0200
TZNAME:CEST
DTSTART:20240331T010000
END:DAYLIGHT
BEGIN:STANDARD
TZOFFSETFROM:+0200
TZOFFSETTO:+0100
TZNAME:CET
DTSTART:20241027T010000
END:STANDARD
BEGIN:DAYLIGHT
TZOFFSETFROM:+0100
TZOFFSETTO:+0200
TZNAME:CEST
DTSTART:20250330T010000
END:DAYLIGHT
BEGIN:STANDARD
TZOFFSETFROM:+0200
TZOFFSETTO:+0100
TZNAME:CET
DTSTART:20251026T010000
END:STANDARD
BEGIN:DAYLIGHT
TZOFFSETFROM:+0100
TZOFFSETTO:+0200
TZNAME:CEST
DTSTART:20260329T010000
END:DAYLIGHT
BEGIN:STANDARD
TZOFFSETFROM:+0200
TZOFFSETTO:+0100
TZNAME:CET
DTSTART:20261025T010000
END:STANDARD
END:VTIMEZONE
BEGIN:VEVENT
DTSTART;TZID=Europe/Berlin:20251027T140000
DTEND;TZID=Europe/Berlin:20251027T153000
DTSTAMP:20260420T183421
CREATED:20250831T230045Z
LAST-MODIFIED:20250831T230045Z
UID:9655-1761573600-1761579000@kalender.seniorinnen.wien
SUMMARY:Führung: DIE LINIE
DESCRIPTION:Die Linie ist der Anfang jeder Form.\nWie ein roter Faden durchzieht sie die Kunstgeschichte\, gibt Kontur\, ist Ausdruck von Freiheit und Verbindung zugleich. Tauchen Sie bei dieser Tour in den Kosmos der Linie ein. Vor Meisterwerken von Paul Klee\, Roy Lichtenstein und Jackson Pollock bis zu aktuellen Positionen erfahren Sie\, wie Linien den Sprung in das Abstrakte wagen\, ganze Räume erobern und sich bei Chiharu Shiota sogar in ein Netz aus Gemeinschaft\, Emotion und Dankbarkeit verwandeln. Im intimen Tea Room besteht die Möglichkeit\, sich über das Gesehene auszutauschen. \nmax. 20 Teilnehmer:innen \nAnmeldung bis zum Veranstaltungstag \nWebsite: www.hortencollection.com/programm  \nFoto: Henri Matisse\, Portrait de Rosabianca Skira\, 1948\nHeidi Horten Collection\, © Succession H. Matisse
URL:https://kalender.seniorinnen.wien/event/fuehrung-die-linie/2025-10-27/
LOCATION:Heidi Horten Collection\, Hanuschgasse 3\, Wien\, 1010
CATEGORIES:Kunst und Kultur,Monat der Senior:innen
ATTACH;FMTTYPE=image/jpeg:https://kalender.seniorinnen.wien/wp-content/uploads/2025/08/HHC2_Matisse-e1756388360819.jpg
END:VEVENT
BEGIN:VEVENT
DTSTART;TZID=Europe/Berlin:20251020T140000
DTEND;TZID=Europe/Berlin:20251020T153000
DTSTAMP:20260420T183421
CREATED:20250831T230045Z
LAST-MODIFIED:20250828T134122Z
UID:9651-1760968800-1760974200@kalender.seniorinnen.wien
SUMMARY:Führung: DIE LINIE
DESCRIPTION:Die Linie ist der Anfang jeder Form.\nWie ein roter Faden durchzieht sie die Kunstgeschichte\, gibt Kontur\, ist Ausdruck von Freiheit und Verbindung zugleich. Tauchen Sie bei dieser Tour in den Kosmos der Linie ein. Vor Meisterwerken von Paul Klee\, Roy Lichtenstein und Jackson Pollock bis zu aktuellen Positionen erfahren Sie\, wie Linien den Sprung in das Abstrakte wagen\, ganze Räume erobern und sich bei Chiharu Shiota sogar in ein Netz aus Gemeinschaft\, Emotion und Dankbarkeit verwandeln. Im intimen Tea Room besteht die Möglichkeit\, sich über das Gesehene auszutauschen. \nmax. 20 Teilnehmer:innen \nAnmeldung bis zum Veranstaltungstag \nWebsite: www.hortencollection.com/programm  \nFoto: Henri Matisse\, Portrait de Rosabianca Skira\, 1948\nHeidi Horten Collection\, © Succession H. Matisse
URL:https://kalender.seniorinnen.wien/event/fuehrung-die-linie/2025-10-20/
LOCATION:Heidi Horten Collection\, Hanuschgasse 3\, Wien\, 1010
CATEGORIES:Kunst und Kultur,Monat der Senior:innen
ATTACH;FMTTYPE=image/jpeg:https://kalender.seniorinnen.wien/wp-content/uploads/2025/08/HHC2_Matisse-e1756388360819.jpg
END:VEVENT
END:VCALENDAR