BEGIN:VCALENDAR
VERSION:2.0
PRODID:-//Wien für Senior:innen - ECPv6.15.17.1//NONSGML v1.0//EN
CALSCALE:GREGORIAN
METHOD:PUBLISH
X-WR-CALNAME:Wien für Senior:innen
X-ORIGINAL-URL:https://kalender.seniorinnen.wien
X-WR-CALDESC:Veranstaltungen für Wien für Senior:innen
REFRESH-INTERVAL;VALUE=DURATION:PT1H
X-Robots-Tag:noindex
X-PUBLISHED-TTL:PT1H
BEGIN:VTIMEZONE
TZID:Europe/Berlin
BEGIN:DAYLIGHT
TZOFFSETFROM:+0100
TZOFFSETTO:+0200
TZNAME:CEST
DTSTART:20250330T010000
END:DAYLIGHT
BEGIN:STANDARD
TZOFFSETFROM:+0200
TZOFFSETTO:+0100
TZNAME:CET
DTSTART:20251026T010000
END:STANDARD
BEGIN:DAYLIGHT
TZOFFSETFROM:+0100
TZOFFSETTO:+0200
TZNAME:CEST
DTSTART:20260329T010000
END:DAYLIGHT
BEGIN:STANDARD
TZOFFSETFROM:+0200
TZOFFSETTO:+0100
TZNAME:CET
DTSTART:20261025T010000
END:STANDARD
BEGIN:DAYLIGHT
TZOFFSETFROM:+0100
TZOFFSETTO:+0200
TZNAME:CEST
DTSTART:20270328T010000
END:DAYLIGHT
BEGIN:STANDARD
TZOFFSETFROM:+0200
TZOFFSETTO:+0100
TZNAME:CET
DTSTART:20271031T010000
END:STANDARD
END:VTIMEZONE
BEGIN:VEVENT
DTSTART;TZID=Europe/Berlin:20260504T093000
DTEND;TZID=Europe/Berlin:20260504T103000
DTSTAMP:20260420T191314
CREATED:20260417T112324Z
LAST-MODIFIED:20260417T112324Z
UID:12690-1777887000-1777890600@kalender.seniorinnen.wien
SUMMARY:Fit älter werden
DESCRIPTION:Montags 7 x\, 04.05. bis 22.06.2026\, 9:30 bis 10:30 Uhr \nKursleitung: Ute Trunk \nVHS Simmering\nGottschalkgasse 10\n1110 Wien \nAlle Menschen wünschen sich ein langes Leben bei guter Gesundheit. Um die Lebensqualität über die Jahre zu halten\, sind\nBewegung\, Ernährung und Sozialkontakte wichtige Eckpfeiler. In diesem Kurs erleben Sie hautnah\, wie regelmäßiges und\nvielseitiges Training in der der Gruppe helfen kann\, Kraft und Ausdauer\, Koordination\, Gleichgewicht und Beweglichkeit bis ins\nhohe Alter zu erhalten.\nBitte bequeme Bekleidung\, Hallenturnschuhe (keine Straßenschuhe)\, großes Handtuch und Trinkflasche mitnehmen. \nGebühr: 58 € \nFoto/Illustration: Pixabay
URL:https://kalender.seniorinnen.wien/event/fit-aelter-werden/2026-05-04/
LOCATION:VHS Simmering\, Gottschalkgasse 10\, Wien\, 1110\, Österreich
CATEGORIES:Fit und Gesund
ATTACH;FMTTYPE=image/jpeg:https://kalender.seniorinnen.wien/wp-content/uploads/2026/04/tungart7-woman-8415734-scaled.jpg
ORGANIZER;CN="VHS Simmering":MAILTO:simmering@vhs.at
END:VEVENT
BEGIN:VEVENT
DTSTART;TZID=Europe/Berlin:20260511T093000
DTEND;TZID=Europe/Berlin:20260511T103000
DTSTAMP:20260420T191314
CREATED:20260417T112324Z
LAST-MODIFIED:20260417T112324Z
UID:12692-1778491800-1778495400@kalender.seniorinnen.wien
SUMMARY:Fit älter werden
DESCRIPTION:Montags 7 x\, 04.05. bis 22.06.2026\, 9:30 bis 10:30 Uhr \nKursleitung: Ute Trunk \nVHS Simmering\nGottschalkgasse 10\n1110 Wien \nAlle Menschen wünschen sich ein langes Leben bei guter Gesundheit. Um die Lebensqualität über die Jahre zu halten\, sind\nBewegung\, Ernährung und Sozialkontakte wichtige Eckpfeiler. In diesem Kurs erleben Sie hautnah\, wie regelmäßiges und\nvielseitiges Training in der der Gruppe helfen kann\, Kraft und Ausdauer\, Koordination\, Gleichgewicht und Beweglichkeit bis ins\nhohe Alter zu erhalten.\nBitte bequeme Bekleidung\, Hallenturnschuhe (keine Straßenschuhe)\, großes Handtuch und Trinkflasche mitnehmen. \nGebühr: 58 € \nFoto/Illustration: Pixabay
URL:https://kalender.seniorinnen.wien/event/fit-aelter-werden/2026-05-11/
LOCATION:VHS Simmering\, Gottschalkgasse 10\, Wien\, 1110\, Österreich
CATEGORIES:Fit und Gesund
ATTACH;FMTTYPE=image/jpeg:https://kalender.seniorinnen.wien/wp-content/uploads/2026/04/tungart7-woman-8415734-scaled.jpg
ORGANIZER;CN="VHS Simmering":MAILTO:simmering@vhs.at
END:VEVENT
BEGIN:VEVENT
DTSTART;TZID=Europe/Berlin:20260518T093000
DTEND;TZID=Europe/Berlin:20260518T103000
DTSTAMP:20260420T191314
CREATED:20260417T112324Z
LAST-MODIFIED:20260417T112324Z
UID:12693-1779096600-1779100200@kalender.seniorinnen.wien
SUMMARY:Fit älter werden
DESCRIPTION:Montags 7 x\, 04.05. bis 22.06.2026\, 9:30 bis 10:30 Uhr \nKursleitung: Ute Trunk \nVHS Simmering\nGottschalkgasse 10\n1110 Wien \nAlle Menschen wünschen sich ein langes Leben bei guter Gesundheit. Um die Lebensqualität über die Jahre zu halten\, sind\nBewegung\, Ernährung und Sozialkontakte wichtige Eckpfeiler. In diesem Kurs erleben Sie hautnah\, wie regelmäßiges und\nvielseitiges Training in der der Gruppe helfen kann\, Kraft und Ausdauer\, Koordination\, Gleichgewicht und Beweglichkeit bis ins\nhohe Alter zu erhalten.\nBitte bequeme Bekleidung\, Hallenturnschuhe (keine Straßenschuhe)\, großes Handtuch und Trinkflasche mitnehmen. \nGebühr: 58 € \nFoto/Illustration: Pixabay
URL:https://kalender.seniorinnen.wien/event/fit-aelter-werden/2026-05-18/
LOCATION:VHS Simmering\, Gottschalkgasse 10\, Wien\, 1110\, Österreich
CATEGORIES:Fit und Gesund
ATTACH;FMTTYPE=image/jpeg:https://kalender.seniorinnen.wien/wp-content/uploads/2026/04/tungart7-woman-8415734-scaled.jpg
ORGANIZER;CN="VHS Simmering":MAILTO:simmering@vhs.at
END:VEVENT
BEGIN:VEVENT
DTSTART;TZID=Europe/Berlin:20260525T093000
DTEND;TZID=Europe/Berlin:20260525T103000
DTSTAMP:20260420T191314
CREATED:20260417T112324Z
LAST-MODIFIED:20260417T112324Z
UID:12694-1779701400-1779705000@kalender.seniorinnen.wien
SUMMARY:Fit älter werden
DESCRIPTION:Montags 7 x\, 04.05. bis 22.06.2026\, 9:30 bis 10:30 Uhr \nKursleitung: Ute Trunk \nVHS Simmering\nGottschalkgasse 10\n1110 Wien \nAlle Menschen wünschen sich ein langes Leben bei guter Gesundheit. Um die Lebensqualität über die Jahre zu halten\, sind\nBewegung\, Ernährung und Sozialkontakte wichtige Eckpfeiler. In diesem Kurs erleben Sie hautnah\, wie regelmäßiges und\nvielseitiges Training in der der Gruppe helfen kann\, Kraft und Ausdauer\, Koordination\, Gleichgewicht und Beweglichkeit bis ins\nhohe Alter zu erhalten.\nBitte bequeme Bekleidung\, Hallenturnschuhe (keine Straßenschuhe)\, großes Handtuch und Trinkflasche mitnehmen. \nGebühr: 58 € \nFoto/Illustration: Pixabay
URL:https://kalender.seniorinnen.wien/event/fit-aelter-werden/2026-05-25/
LOCATION:VHS Simmering\, Gottschalkgasse 10\, Wien\, 1110\, Österreich
CATEGORIES:Fit und Gesund
ATTACH;FMTTYPE=image/jpeg:https://kalender.seniorinnen.wien/wp-content/uploads/2026/04/tungart7-woman-8415734-scaled.jpg
ORGANIZER;CN="VHS Simmering":MAILTO:simmering@vhs.at
END:VEVENT
BEGIN:VEVENT
DTSTART;TZID=Europe/Berlin:20260601T093000
DTEND;TZID=Europe/Berlin:20260601T103000
DTSTAMP:20260420T191314
CREATED:20260417T112324Z
LAST-MODIFIED:20260417T112324Z
UID:12695-1780306200-1780309800@kalender.seniorinnen.wien
SUMMARY:Fit älter werden
DESCRIPTION:Montags 7 x\, 04.05. bis 22.06.2026\, 9:30 bis 10:30 Uhr \nKursleitung: Ute Trunk \nVHS Simmering\nGottschalkgasse 10\n1110 Wien \nAlle Menschen wünschen sich ein langes Leben bei guter Gesundheit. Um die Lebensqualität über die Jahre zu halten\, sind\nBewegung\, Ernährung und Sozialkontakte wichtige Eckpfeiler. In diesem Kurs erleben Sie hautnah\, wie regelmäßiges und\nvielseitiges Training in der der Gruppe helfen kann\, Kraft und Ausdauer\, Koordination\, Gleichgewicht und Beweglichkeit bis ins\nhohe Alter zu erhalten.\nBitte bequeme Bekleidung\, Hallenturnschuhe (keine Straßenschuhe)\, großes Handtuch und Trinkflasche mitnehmen. \nGebühr: 58 € \nFoto/Illustration: Pixabay
URL:https://kalender.seniorinnen.wien/event/fit-aelter-werden/2026-06-01/
LOCATION:VHS Simmering\, Gottschalkgasse 10\, Wien\, 1110\, Österreich
CATEGORIES:Fit und Gesund
ATTACH;FMTTYPE=image/jpeg:https://kalender.seniorinnen.wien/wp-content/uploads/2026/04/tungart7-woman-8415734-scaled.jpg
ORGANIZER;CN="VHS Simmering":MAILTO:simmering@vhs.at
END:VEVENT
BEGIN:VEVENT
DTSTART;TZID=Europe/Berlin:20260608T093000
DTEND;TZID=Europe/Berlin:20260608T103000
DTSTAMP:20260420T191314
CREATED:20260417T112324Z
LAST-MODIFIED:20260417T112324Z
UID:12696-1780911000-1780914600@kalender.seniorinnen.wien
SUMMARY:Fit älter werden
DESCRIPTION:Montags 7 x\, 04.05. bis 22.06.2026\, 9:30 bis 10:30 Uhr \nKursleitung: Ute Trunk \nVHS Simmering\nGottschalkgasse 10\n1110 Wien \nAlle Menschen wünschen sich ein langes Leben bei guter Gesundheit. Um die Lebensqualität über die Jahre zu halten\, sind\nBewegung\, Ernährung und Sozialkontakte wichtige Eckpfeiler. In diesem Kurs erleben Sie hautnah\, wie regelmäßiges und\nvielseitiges Training in der der Gruppe helfen kann\, Kraft und Ausdauer\, Koordination\, Gleichgewicht und Beweglichkeit bis ins\nhohe Alter zu erhalten.\nBitte bequeme Bekleidung\, Hallenturnschuhe (keine Straßenschuhe)\, großes Handtuch und Trinkflasche mitnehmen. \nGebühr: 58 € \nFoto/Illustration: Pixabay
URL:https://kalender.seniorinnen.wien/event/fit-aelter-werden/2026-06-08/
LOCATION:VHS Simmering\, Gottschalkgasse 10\, Wien\, 1110\, Österreich
CATEGORIES:Fit und Gesund
ATTACH;FMTTYPE=image/jpeg:https://kalender.seniorinnen.wien/wp-content/uploads/2026/04/tungart7-woman-8415734-scaled.jpg
ORGANIZER;CN="VHS Simmering":MAILTO:simmering@vhs.at
END:VEVENT
BEGIN:VEVENT
DTSTART;TZID=Europe/Berlin:20260615T093000
DTEND;TZID=Europe/Berlin:20260615T103000
DTSTAMP:20260420T191314
CREATED:20260417T112324Z
LAST-MODIFIED:20260417T112324Z
UID:12697-1781515800-1781519400@kalender.seniorinnen.wien
SUMMARY:Fit älter werden
DESCRIPTION:Montags 7 x\, 04.05. bis 22.06.2026\, 9:30 bis 10:30 Uhr \nKursleitung: Ute Trunk \nVHS Simmering\nGottschalkgasse 10\n1110 Wien \nAlle Menschen wünschen sich ein langes Leben bei guter Gesundheit. Um die Lebensqualität über die Jahre zu halten\, sind\nBewegung\, Ernährung und Sozialkontakte wichtige Eckpfeiler. In diesem Kurs erleben Sie hautnah\, wie regelmäßiges und\nvielseitiges Training in der der Gruppe helfen kann\, Kraft und Ausdauer\, Koordination\, Gleichgewicht und Beweglichkeit bis ins\nhohe Alter zu erhalten.\nBitte bequeme Bekleidung\, Hallenturnschuhe (keine Straßenschuhe)\, großes Handtuch und Trinkflasche mitnehmen. \nGebühr: 58 € \nFoto/Illustration: Pixabay
URL:https://kalender.seniorinnen.wien/event/fit-aelter-werden/2026-06-15/
LOCATION:VHS Simmering\, Gottschalkgasse 10\, Wien\, 1110\, Österreich
CATEGORIES:Fit und Gesund
ATTACH;FMTTYPE=image/jpeg:https://kalender.seniorinnen.wien/wp-content/uploads/2026/04/tungart7-woman-8415734-scaled.jpg
ORGANIZER;CN="VHS Simmering":MAILTO:simmering@vhs.at
END:VEVENT
BEGIN:VEVENT
DTSTART;TZID=Europe/Berlin:20260622T093000
DTEND;TZID=Europe/Berlin:20260622T103000
DTSTAMP:20260420T191314
CREATED:20260417T112324Z
LAST-MODIFIED:20260417T112324Z
UID:12698-1782120600-1782124200@kalender.seniorinnen.wien
SUMMARY:Fit älter werden
DESCRIPTION:Montags 7 x\, 04.05. bis 22.06.2026\, 9:30 bis 10:30 Uhr \nKursleitung: Ute Trunk \nVHS Simmering\nGottschalkgasse 10\n1110 Wien \nAlle Menschen wünschen sich ein langes Leben bei guter Gesundheit. Um die Lebensqualität über die Jahre zu halten\, sind\nBewegung\, Ernährung und Sozialkontakte wichtige Eckpfeiler. In diesem Kurs erleben Sie hautnah\, wie regelmäßiges und\nvielseitiges Training in der der Gruppe helfen kann\, Kraft und Ausdauer\, Koordination\, Gleichgewicht und Beweglichkeit bis ins\nhohe Alter zu erhalten.\nBitte bequeme Bekleidung\, Hallenturnschuhe (keine Straßenschuhe)\, großes Handtuch und Trinkflasche mitnehmen. \nGebühr: 58 € \nFoto/Illustration: Pixabay
URL:https://kalender.seniorinnen.wien/event/fit-aelter-werden/2026-06-22/
LOCATION:VHS Simmering\, Gottschalkgasse 10\, Wien\, 1110\, Österreich
CATEGORIES:Fit und Gesund
ATTACH;FMTTYPE=image/jpeg:https://kalender.seniorinnen.wien/wp-content/uploads/2026/04/tungart7-woman-8415734-scaled.jpg
ORGANIZER;CN="VHS Simmering":MAILTO:simmering@vhs.at
END:VEVENT
END:VCALENDAR