BEGIN:VCALENDAR
VERSION:2.0
PRODID:-//Wien für Senior:innen - ECPv6.15.17.1//NONSGML v1.0//EN
CALSCALE:GREGORIAN
METHOD:PUBLISH
X-ORIGINAL-URL:https://kalender.seniorinnen.wien
X-WR-CALDESC:Veranstaltungen für Wien für Senior:innen
REFRESH-INTERVAL;VALUE=DURATION:PT1H
X-Robots-Tag:noindex
X-PUBLISHED-TTL:PT1H
BEGIN:VTIMEZONE
TZID:Europe/Berlin
BEGIN:DAYLIGHT
TZOFFSETFROM:+0100
TZOFFSETTO:+0200
TZNAME:CEST
DTSTART:20240331T010000
END:DAYLIGHT
BEGIN:STANDARD
TZOFFSETFROM:+0200
TZOFFSETTO:+0100
TZNAME:CET
DTSTART:20241027T010000
END:STANDARD
BEGIN:DAYLIGHT
TZOFFSETFROM:+0100
TZOFFSETTO:+0200
TZNAME:CEST
DTSTART:20250330T010000
END:DAYLIGHT
BEGIN:STANDARD
TZOFFSETFROM:+0200
TZOFFSETTO:+0100
TZNAME:CET
DTSTART:20251026T010000
END:STANDARD
BEGIN:DAYLIGHT
TZOFFSETFROM:+0100
TZOFFSETTO:+0200
TZNAME:CEST
DTSTART:20260329T010000
END:DAYLIGHT
BEGIN:STANDARD
TZOFFSETFROM:+0200
TZOFFSETTO:+0100
TZNAME:CET
DTSTART:20261025T010000
END:STANDARD
BEGIN:DAYLIGHT
TZOFFSETFROM:+0100
TZOFFSETTO:+0200
TZNAME:CEST
DTSTART:20270328T010000
END:DAYLIGHT
BEGIN:STANDARD
TZOFFSETFROM:+0200
TZOFFSETTO:+0100
TZNAME:CET
DTSTART:20271031T010000
END:STANDARD
END:VTIMEZONE
BEGIN:VEVENT
DTSTART;TZID=Europe/Berlin:20260109T093000
DTEND;TZID=Europe/Berlin:20260109T110000
DTSTAMP:20260420T193619
CREATED:20250915T122742Z
LAST-MODIFIED:20250915T122742Z
UID:10413-1767951000-1767956400@kalender.seniorinnen.wien
SUMMARY:Englisch A1++
DESCRIPTION:Englisch A1++\nTeil 1: 26.09.2025-07.11.2025 | Fr. 09:30-11:00\nTeil 2: 14.11.2025-09.01.2026 | Fr. 09:30-11:00 \nje 10\,5 UE | 7x | ab 8 TN | € 96\,-\nKursnr: 25GG2022a/25GG2022b\nHerta Smitha\, BA \nKontakt:\nTel.: +43 1 891 74 111 000\nE-Mail: simmering@vhs.at \nFoto: Freepik
URL:https://kalender.seniorinnen.wien/event/englisch-a1-2/2026-01-09/
LOCATION:VHS Simmering\, Gottschalkgasse 10\, Wien\, 1110\, Österreich
CATEGORIES:Bildung
ATTACH;FMTTYPE=image/jpeg:https://kalender.seniorinnen.wien/wp-content/uploads/2025/09/7454895-scaled-e1757939063472.jpg
END:VEVENT
BEGIN:VEVENT
DTSTART;TZID=Europe/Berlin:20260102T093000
DTEND;TZID=Europe/Berlin:20260102T110000
DTSTAMP:20260420T193619
CREATED:20250915T122742Z
LAST-MODIFIED:20250915T122742Z
UID:10412-1767346200-1767351600@kalender.seniorinnen.wien
SUMMARY:Englisch A1++
DESCRIPTION:Englisch A1++\nTeil 1: 26.09.2025-07.11.2025 | Fr. 09:30-11:00\nTeil 2: 14.11.2025-09.01.2026 | Fr. 09:30-11:00 \nje 10\,5 UE | 7x | ab 8 TN | € 96\,-\nKursnr: 25GG2022a/25GG2022b\nHerta Smitha\, BA \nKontakt:\nTel.: +43 1 891 74 111 000\nE-Mail: simmering@vhs.at \nFoto: Freepik
URL:https://kalender.seniorinnen.wien/event/englisch-a1-2/2026-01-02/
LOCATION:VHS Simmering\, Gottschalkgasse 10\, Wien\, 1110\, Österreich
CATEGORIES:Bildung
ATTACH;FMTTYPE=image/jpeg:https://kalender.seniorinnen.wien/wp-content/uploads/2025/09/7454895-scaled-e1757939063472.jpg
END:VEVENT
BEGIN:VEVENT
DTSTART;TZID=Europe/Berlin:20251226T093000
DTEND;TZID=Europe/Berlin:20251226T110000
DTSTAMP:20260420T193619
CREATED:20250915T122742Z
LAST-MODIFIED:20250915T122742Z
UID:10411-1766741400-1766746800@kalender.seniorinnen.wien
SUMMARY:Englisch A1++
DESCRIPTION:Englisch A1++\nTeil 1: 26.09.2025-07.11.2025 | Fr. 09:30-11:00\nTeil 2: 14.11.2025-09.01.2026 | Fr. 09:30-11:00 \nje 10\,5 UE | 7x | ab 8 TN | € 96\,-\nKursnr: 25GG2022a/25GG2022b\nHerta Smitha\, BA \nKontakt:\nTel.: +43 1 891 74 111 000\nE-Mail: simmering@vhs.at \nFoto: Freepik
URL:https://kalender.seniorinnen.wien/event/englisch-a1-2/2025-12-26/
LOCATION:VHS Simmering\, Gottschalkgasse 10\, Wien\, 1110\, Österreich
CATEGORIES:Bildung
ATTACH;FMTTYPE=image/jpeg:https://kalender.seniorinnen.wien/wp-content/uploads/2025/09/7454895-scaled-e1757939063472.jpg
END:VEVENT
BEGIN:VEVENT
DTSTART;TZID=Europe/Berlin:20251219T093000
DTEND;TZID=Europe/Berlin:20251219T110000
DTSTAMP:20260420T193619
CREATED:20250915T122742Z
LAST-MODIFIED:20250915T122742Z
UID:10410-1766136600-1766142000@kalender.seniorinnen.wien
SUMMARY:Englisch A1++
DESCRIPTION:Englisch A1++\nTeil 1: 26.09.2025-07.11.2025 | Fr. 09:30-11:00\nTeil 2: 14.11.2025-09.01.2026 | Fr. 09:30-11:00 \nje 10\,5 UE | 7x | ab 8 TN | € 96\,-\nKursnr: 25GG2022a/25GG2022b\nHerta Smitha\, BA \nKontakt:\nTel.: +43 1 891 74 111 000\nE-Mail: simmering@vhs.at \nFoto: Freepik
URL:https://kalender.seniorinnen.wien/event/englisch-a1-2/2025-12-19/
LOCATION:VHS Simmering\, Gottschalkgasse 10\, Wien\, 1110\, Österreich
CATEGORIES:Bildung
ATTACH;FMTTYPE=image/jpeg:https://kalender.seniorinnen.wien/wp-content/uploads/2025/09/7454895-scaled-e1757939063472.jpg
END:VEVENT
BEGIN:VEVENT
DTSTART;TZID=Europe/Berlin:20251212T093000
DTEND;TZID=Europe/Berlin:20251212T110000
DTSTAMP:20260420T193619
CREATED:20250915T122742Z
LAST-MODIFIED:20250915T122742Z
UID:10409-1765531800-1765537200@kalender.seniorinnen.wien
SUMMARY:Englisch A1++
DESCRIPTION:Englisch A1++\nTeil 1: 26.09.2025-07.11.2025 | Fr. 09:30-11:00\nTeil 2: 14.11.2025-09.01.2026 | Fr. 09:30-11:00 \nje 10\,5 UE | 7x | ab 8 TN | € 96\,-\nKursnr: 25GG2022a/25GG2022b\nHerta Smitha\, BA \nKontakt:\nTel.: +43 1 891 74 111 000\nE-Mail: simmering@vhs.at \nFoto: Freepik
URL:https://kalender.seniorinnen.wien/event/englisch-a1-2/2025-12-12/
LOCATION:VHS Simmering\, Gottschalkgasse 10\, Wien\, 1110\, Österreich
CATEGORIES:Bildung
ATTACH;FMTTYPE=image/jpeg:https://kalender.seniorinnen.wien/wp-content/uploads/2025/09/7454895-scaled-e1757939063472.jpg
END:VEVENT
BEGIN:VEVENT
DTSTART;TZID=Europe/Berlin:20251205T093000
DTEND;TZID=Europe/Berlin:20251205T110000
DTSTAMP:20260420T193619
CREATED:20250915T122742Z
LAST-MODIFIED:20250915T122742Z
UID:10408-1764927000-1764932400@kalender.seniorinnen.wien
SUMMARY:Englisch A1++
DESCRIPTION:Englisch A1++\nTeil 1: 26.09.2025-07.11.2025 | Fr. 09:30-11:00\nTeil 2: 14.11.2025-09.01.2026 | Fr. 09:30-11:00 \nje 10\,5 UE | 7x | ab 8 TN | € 96\,-\nKursnr: 25GG2022a/25GG2022b\nHerta Smitha\, BA \nKontakt:\nTel.: +43 1 891 74 111 000\nE-Mail: simmering@vhs.at \nFoto: Freepik
URL:https://kalender.seniorinnen.wien/event/englisch-a1-2/2025-12-05/
LOCATION:VHS Simmering\, Gottschalkgasse 10\, Wien\, 1110\, Österreich
CATEGORIES:Bildung
ATTACH;FMTTYPE=image/jpeg:https://kalender.seniorinnen.wien/wp-content/uploads/2025/09/7454895-scaled-e1757939063472.jpg
END:VEVENT
BEGIN:VEVENT
DTSTART;TZID=Europe/Berlin:20251128T093000
DTEND;TZID=Europe/Berlin:20251128T110000
DTSTAMP:20260420T193619
CREATED:20250915T122742Z
LAST-MODIFIED:20250915T122742Z
UID:10407-1764322200-1764327600@kalender.seniorinnen.wien
SUMMARY:Englisch A1++
DESCRIPTION:Englisch A1++\nTeil 1: 26.09.2025-07.11.2025 | Fr. 09:30-11:00\nTeil 2: 14.11.2025-09.01.2026 | Fr. 09:30-11:00 \nje 10\,5 UE | 7x | ab 8 TN | € 96\,-\nKursnr: 25GG2022a/25GG2022b\nHerta Smitha\, BA \nKontakt:\nTel.: +43 1 891 74 111 000\nE-Mail: simmering@vhs.at \nFoto: Freepik
URL:https://kalender.seniorinnen.wien/event/englisch-a1-2/2025-11-28/
LOCATION:VHS Simmering\, Gottschalkgasse 10\, Wien\, 1110\, Österreich
CATEGORIES:Bildung
ATTACH;FMTTYPE=image/jpeg:https://kalender.seniorinnen.wien/wp-content/uploads/2025/09/7454895-scaled-e1757939063472.jpg
END:VEVENT
BEGIN:VEVENT
DTSTART;TZID=Europe/Berlin:20251121T093000
DTEND;TZID=Europe/Berlin:20251121T110000
DTSTAMP:20260420T193619
CREATED:20250915T122742Z
LAST-MODIFIED:20250915T122742Z
UID:10406-1763717400-1763722800@kalender.seniorinnen.wien
SUMMARY:Englisch A1++
DESCRIPTION:Englisch A1++\nTeil 1: 26.09.2025-07.11.2025 | Fr. 09:30-11:00\nTeil 2: 14.11.2025-09.01.2026 | Fr. 09:30-11:00 \nje 10\,5 UE | 7x | ab 8 TN | € 96\,-\nKursnr: 25GG2022a/25GG2022b\nHerta Smitha\, BA \nKontakt:\nTel.: +43 1 891 74 111 000\nE-Mail: simmering@vhs.at \nFoto: Freepik
URL:https://kalender.seniorinnen.wien/event/englisch-a1-2/2025-11-21/
LOCATION:VHS Simmering\, Gottschalkgasse 10\, Wien\, 1110\, Österreich
CATEGORIES:Bildung
ATTACH;FMTTYPE=image/jpeg:https://kalender.seniorinnen.wien/wp-content/uploads/2025/09/7454895-scaled-e1757939063472.jpg
END:VEVENT
BEGIN:VEVENT
DTSTART;TZID=Europe/Berlin:20251114T093000
DTEND;TZID=Europe/Berlin:20251114T110000
DTSTAMP:20260420T193619
CREATED:20250915T122742Z
LAST-MODIFIED:20250915T122742Z
UID:10405-1763112600-1763118000@kalender.seniorinnen.wien
SUMMARY:Englisch A1++
DESCRIPTION:Englisch A1++\nTeil 1: 26.09.2025-07.11.2025 | Fr. 09:30-11:00\nTeil 2: 14.11.2025-09.01.2026 | Fr. 09:30-11:00 \nje 10\,5 UE | 7x | ab 8 TN | € 96\,-\nKursnr: 25GG2022a/25GG2022b\nHerta Smitha\, BA \nKontakt:\nTel.: +43 1 891 74 111 000\nE-Mail: simmering@vhs.at \nFoto: Freepik
URL:https://kalender.seniorinnen.wien/event/englisch-a1-2/2025-11-14/
LOCATION:VHS Simmering\, Gottschalkgasse 10\, Wien\, 1110\, Österreich
CATEGORIES:Bildung
ATTACH;FMTTYPE=image/jpeg:https://kalender.seniorinnen.wien/wp-content/uploads/2025/09/7454895-scaled-e1757939063472.jpg
END:VEVENT
BEGIN:VEVENT
DTSTART;TZID=Europe/Berlin:20251107T093000
DTEND;TZID=Europe/Berlin:20251107T110000
DTSTAMP:20260420T193619
CREATED:20250915T122742Z
LAST-MODIFIED:20250915T122742Z
UID:10404-1762507800-1762513200@kalender.seniorinnen.wien
SUMMARY:Englisch A1++
DESCRIPTION:Englisch A1++\nTeil 1: 26.09.2025-07.11.2025 | Fr. 09:30-11:00\nTeil 2: 14.11.2025-09.01.2026 | Fr. 09:30-11:00 \nje 10\,5 UE | 7x | ab 8 TN | € 96\,-\nKursnr: 25GG2022a/25GG2022b\nHerta Smitha\, BA \nKontakt:\nTel.: +43 1 891 74 111 000\nE-Mail: simmering@vhs.at \nFoto: Freepik
URL:https://kalender.seniorinnen.wien/event/englisch-a1-2/2025-11-07/
LOCATION:VHS Simmering\, Gottschalkgasse 10\, Wien\, 1110\, Österreich
CATEGORIES:Bildung
ATTACH;FMTTYPE=image/jpeg:https://kalender.seniorinnen.wien/wp-content/uploads/2025/09/7454895-scaled-e1757939063472.jpg
END:VEVENT
BEGIN:VEVENT
DTSTART;TZID=Europe/Berlin:20251031T093000
DTEND;TZID=Europe/Berlin:20251031T110000
DTSTAMP:20260420T193619
CREATED:20250915T122742Z
LAST-MODIFIED:20250915T122742Z
UID:10403-1761903000-1761908400@kalender.seniorinnen.wien
SUMMARY:Englisch A1++
DESCRIPTION:Englisch A1++\nTeil 1: 26.09.2025-07.11.2025 | Fr. 09:30-11:00\nTeil 2: 14.11.2025-09.01.2026 | Fr. 09:30-11:00 \nje 10\,5 UE | 7x | ab 8 TN | € 96\,-\nKursnr: 25GG2022a/25GG2022b\nHerta Smitha\, BA \nKontakt:\nTel.: +43 1 891 74 111 000\nE-Mail: simmering@vhs.at \nFoto: Freepik
URL:https://kalender.seniorinnen.wien/event/englisch-a1-2/2025-10-31/
LOCATION:VHS Simmering\, Gottschalkgasse 10\, Wien\, 1110\, Österreich
CATEGORIES:Bildung
ATTACH;FMTTYPE=image/jpeg:https://kalender.seniorinnen.wien/wp-content/uploads/2025/09/7454895-scaled-e1757939063472.jpg
END:VEVENT
BEGIN:VEVENT
DTSTART;TZID=Europe/Berlin:20251024T093000
DTEND;TZID=Europe/Berlin:20251024T110000
DTSTAMP:20260420T193619
CREATED:20250915T122742Z
LAST-MODIFIED:20250915T122742Z
UID:10402-1761298200-1761303600@kalender.seniorinnen.wien
SUMMARY:Englisch A1++
DESCRIPTION:Englisch A1++\nTeil 1: 26.09.2025-07.11.2025 | Fr. 09:30-11:00\nTeil 2: 14.11.2025-09.01.2026 | Fr. 09:30-11:00 \nje 10\,5 UE | 7x | ab 8 TN | € 96\,-\nKursnr: 25GG2022a/25GG2022b\nHerta Smitha\, BA \nKontakt:\nTel.: +43 1 891 74 111 000\nE-Mail: simmering@vhs.at \nFoto: Freepik
URL:https://kalender.seniorinnen.wien/event/englisch-a1-2/2025-10-24/
LOCATION:VHS Simmering\, Gottschalkgasse 10\, Wien\, 1110\, Österreich
CATEGORIES:Bildung
ATTACH;FMTTYPE=image/jpeg:https://kalender.seniorinnen.wien/wp-content/uploads/2025/09/7454895-scaled-e1757939063472.jpg
END:VEVENT
BEGIN:VEVENT
DTSTART;TZID=Europe/Berlin:20251017T093000
DTEND;TZID=Europe/Berlin:20251017T110000
DTSTAMP:20260420T193619
CREATED:20250915T122742Z
LAST-MODIFIED:20250915T122742Z
UID:10401-1760693400-1760698800@kalender.seniorinnen.wien
SUMMARY:Englisch A1++
DESCRIPTION:Englisch A1++\nTeil 1: 26.09.2025-07.11.2025 | Fr. 09:30-11:00\nTeil 2: 14.11.2025-09.01.2026 | Fr. 09:30-11:00 \nje 10\,5 UE | 7x | ab 8 TN | € 96\,-\nKursnr: 25GG2022a/25GG2022b\nHerta Smitha\, BA \nKontakt:\nTel.: +43 1 891 74 111 000\nE-Mail: simmering@vhs.at \nFoto: Freepik
URL:https://kalender.seniorinnen.wien/event/englisch-a1-2/2025-10-17/
LOCATION:VHS Simmering\, Gottschalkgasse 10\, Wien\, 1110\, Österreich
CATEGORIES:Bildung
ATTACH;FMTTYPE=image/jpeg:https://kalender.seniorinnen.wien/wp-content/uploads/2025/09/7454895-scaled-e1757939063472.jpg
END:VEVENT
BEGIN:VEVENT
DTSTART;TZID=Europe/Berlin:20251010T093000
DTEND;TZID=Europe/Berlin:20251010T110000
DTSTAMP:20260420T193619
CREATED:20250915T122742Z
LAST-MODIFIED:20250915T122742Z
UID:10400-1760088600-1760094000@kalender.seniorinnen.wien
SUMMARY:Englisch A1++
DESCRIPTION:Englisch A1++\nTeil 1: 26.09.2025-07.11.2025 | Fr. 09:30-11:00\nTeil 2: 14.11.2025-09.01.2026 | Fr. 09:30-11:00 \nje 10\,5 UE | 7x | ab 8 TN | € 96\,-\nKursnr: 25GG2022a/25GG2022b\nHerta Smitha\, BA \nKontakt:\nTel.: +43 1 891 74 111 000\nE-Mail: simmering@vhs.at \nFoto: Freepik
URL:https://kalender.seniorinnen.wien/event/englisch-a1-2/2025-10-10/
LOCATION:VHS Simmering\, Gottschalkgasse 10\, Wien\, 1110\, Österreich
CATEGORIES:Bildung
ATTACH;FMTTYPE=image/jpeg:https://kalender.seniorinnen.wien/wp-content/uploads/2025/09/7454895-scaled-e1757939063472.jpg
END:VEVENT
BEGIN:VEVENT
DTSTART;TZID=Europe/Berlin:20251003T093000
DTEND;TZID=Europe/Berlin:20251003T110000
DTSTAMP:20260420T193619
CREATED:20250915T122742Z
LAST-MODIFIED:20250915T122742Z
UID:10399-1759483800-1759489200@kalender.seniorinnen.wien
SUMMARY:Englisch A1++
DESCRIPTION:Englisch A1++\nTeil 1: 26.09.2025-07.11.2025 | Fr. 09:30-11:00\nTeil 2: 14.11.2025-09.01.2026 | Fr. 09:30-11:00 \nje 10\,5 UE | 7x | ab 8 TN | € 96\,-\nKursnr: 25GG2022a/25GG2022b\nHerta Smitha\, BA \nKontakt:\nTel.: +43 1 891 74 111 000\nE-Mail: simmering@vhs.at \nFoto: Freepik
URL:https://kalender.seniorinnen.wien/event/englisch-a1-2/2025-10-03/
LOCATION:VHS Simmering\, Gottschalkgasse 10\, Wien\, 1110\, Österreich
CATEGORIES:Bildung
ATTACH;FMTTYPE=image/jpeg:https://kalender.seniorinnen.wien/wp-content/uploads/2025/09/7454895-scaled-e1757939063472.jpg
END:VEVENT
BEGIN:VEVENT
DTSTART;TZID=Europe/Berlin:20250926T093000
DTEND;TZID=Europe/Berlin:20250926T110000
DTSTAMP:20260420T193619
CREATED:20250915T122742Z
LAST-MODIFIED:20250915T122742Z
UID:10380-1758879000-1758884400@kalender.seniorinnen.wien
SUMMARY:Englisch A1++
DESCRIPTION:Englisch A1++\nTeil 1: 26.09.2025-07.11.2025 | Fr. 09:30-11:00\nTeil 2: 14.11.2025-09.01.2026 | Fr. 09:30-11:00 \nje 10\,5 UE | 7x | ab 8 TN | € 96\,-\nKursnr: 25GG2022a/25GG2022b\nHerta Smitha\, BA \nKontakt:\nTel.: +43 1 891 74 111 000\nE-Mail: simmering@vhs.at \nFoto: Freepik
URL:https://kalender.seniorinnen.wien/event/englisch-a1-2/2025-09-26/
LOCATION:VHS Simmering\, Gottschalkgasse 10\, Wien\, 1110\, Österreich
CATEGORIES:Bildung
ATTACH;FMTTYPE=image/jpeg:https://kalender.seniorinnen.wien/wp-content/uploads/2025/09/7454895-scaled-e1757939063472.jpg
END:VEVENT
END:VCALENDAR