BEGIN:VCALENDAR
VERSION:2.0
PRODID:-//Wien für Senior:innen - ECPv6.15.17.1//NONSGML v1.0//EN
CALSCALE:GREGORIAN
METHOD:PUBLISH
X-ORIGINAL-URL:https://kalender.seniorinnen.wien
X-WR-CALDESC:Veranstaltungen für Wien für Senior:innen
REFRESH-INTERVAL;VALUE=DURATION:PT1H
X-Robots-Tag:noindex
X-PUBLISHED-TTL:PT1H
BEGIN:VTIMEZONE
TZID:Europe/Berlin
BEGIN:DAYLIGHT
TZOFFSETFROM:+0100
TZOFFSETTO:+0200
TZNAME:CEST
DTSTART:20250330T010000
END:DAYLIGHT
BEGIN:STANDARD
TZOFFSETFROM:+0200
TZOFFSETTO:+0100
TZNAME:CET
DTSTART:20251026T010000
END:STANDARD
BEGIN:DAYLIGHT
TZOFFSETFROM:+0100
TZOFFSETTO:+0200
TZNAME:CEST
DTSTART:20260329T010000
END:DAYLIGHT
BEGIN:STANDARD
TZOFFSETFROM:+0200
TZOFFSETTO:+0100
TZNAME:CET
DTSTART:20261025T010000
END:STANDARD
BEGIN:DAYLIGHT
TZOFFSETFROM:+0100
TZOFFSETTO:+0200
TZNAME:CEST
DTSTART:20270328T010000
END:DAYLIGHT
BEGIN:STANDARD
TZOFFSETFROM:+0200
TZOFFSETTO:+0100
TZNAME:CET
DTSTART:20271031T010000
END:STANDARD
END:VTIMEZONE
BEGIN:VEVENT
DTSTART;TZID=Europe/Berlin:20260825T160000
DTEND;TZID=Europe/Berlin:20260825T180000
DTSTAMP:20260423T110111
CREATED:20260416T095029Z
LAST-MODIFIED:20260416T095029Z
UID:12565-1787673600-1787680800@kalender.seniorinnen.wien
SUMMARY:Energie-Treffpunkt für alle
DESCRIPTION:Verstehst du deine Strom- oder Heizrechnung nicht? Was bedeuten die Zahlen? Warum ist die Rechnung so hoch? Zahlen\, Begriffe und Zeichen sind oft kompliziert und schwer durchschaubar.\n\n\n\n\n\n\n\n\n\n\n\n\n\n\n\n\n\n\n\n\n\n\n\n\n\nBeim kostenlosen Energie-Treffpunkt schauen wir gemeinsam auf deine Rechnung\, erklären alles verständlich und geben dir hilfreiche Tipps zum Energiesparen und zu Unterstützungsangeboten. \nDienstag\, 25. August 2026\, 16 bis 18 Uhr\nNachbarschaftszentrum 7 – Neubau\n7.\, Schottenfeldgasse 29\, Eingang 2\nT: +43 1 512 36 61-3360 \nhttps://www.nachbarschaftszentren.at/projekte/energie-treffpunkt \nFoto: Pixabay
URL:https://kalender.seniorinnen.wien/event/energie-treffpunkt-fuer-alle-9/2026-08-25/
CATEGORIES:Grätzel,Information
ATTACH;FMTTYPE=image/jpeg:https://kalender.seniorinnen.wien/wp-content/uploads/2026/04/pix1861-power-outlet-643721-scaled.jpg
END:VEVENT
BEGIN:VEVENT
DTSTART;TZID=Europe/Berlin:20260909T160000
DTEND;TZID=Europe/Berlin:20260909T180000
DTSTAMP:20260423T110111
CREATED:20260416T095029Z
LAST-MODIFIED:20260416T095029Z
UID:12566-1788969600-1788976800@kalender.seniorinnen.wien
SUMMARY:Energie-Treffpunkt für alle
DESCRIPTION:Verstehst du deine Strom- oder Heizrechnung nicht? Was bedeuten die Zahlen? Warum ist die Rechnung so hoch? Zahlen\, Begriffe und Zeichen sind oft kompliziert und schwer durchschaubar.\n\n\n\n\n\n\n\n\n\n\n\n\n\n\n\n\n\n\n\n\n\n\n\n\n\nBeim kostenlosen Energie-Treffpunkt schauen wir gemeinsam auf deine Rechnung\, erklären alles verständlich und geben dir hilfreiche Tipps zum Energiesparen und zu Unterstützungsangeboten. \nDienstag\, 25. August 2026\, 16 bis 18 Uhr\nNachbarschaftszentrum 7 – Neubau\n7.\, Schottenfeldgasse 29\, Eingang 2\nT: +43 1 512 36 61-3360 \nhttps://www.nachbarschaftszentren.at/projekte/energie-treffpunkt \nFoto: Pixabay
URL:https://kalender.seniorinnen.wien/event/energie-treffpunkt-fuer-alle-9/2026-09-09/
CATEGORIES:Grätzel,Information
ATTACH;FMTTYPE=image/jpeg:https://kalender.seniorinnen.wien/wp-content/uploads/2026/04/pix1861-power-outlet-643721-scaled.jpg
END:VEVENT
END:VCALENDAR