BEGIN:VCALENDAR
VERSION:2.0
PRODID:-//Wien für Senior:innen - ECPv6.15.17.1//NONSGML v1.0//EN
CALSCALE:GREGORIAN
METHOD:PUBLISH
X-ORIGINAL-URL:https://kalender.seniorinnen.wien
X-WR-CALDESC:Veranstaltungen für Wien für Senior:innen
REFRESH-INTERVAL;VALUE=DURATION:PT1H
X-Robots-Tag:noindex
X-PUBLISHED-TTL:PT1H
BEGIN:VTIMEZONE
TZID:Europe/Berlin
BEGIN:DAYLIGHT
TZOFFSETFROM:+0100
TZOFFSETTO:+0200
TZNAME:CEST
DTSTART:20240331T010000
END:DAYLIGHT
BEGIN:STANDARD
TZOFFSETFROM:+0200
TZOFFSETTO:+0100
TZNAME:CET
DTSTART:20241027T010000
END:STANDARD
BEGIN:DAYLIGHT
TZOFFSETFROM:+0100
TZOFFSETTO:+0200
TZNAME:CEST
DTSTART:20250330T010000
END:DAYLIGHT
BEGIN:STANDARD
TZOFFSETFROM:+0200
TZOFFSETTO:+0100
TZNAME:CET
DTSTART:20251026T010000
END:STANDARD
BEGIN:DAYLIGHT
TZOFFSETFROM:+0100
TZOFFSETTO:+0200
TZNAME:CEST
DTSTART:20260329T010000
END:DAYLIGHT
BEGIN:STANDARD
TZOFFSETFROM:+0200
TZOFFSETTO:+0100
TZNAME:CET
DTSTART:20261025T010000
END:STANDARD
END:VTIMEZONE
BEGIN:VEVENT
DTSTART;TZID=Europe/Berlin:20251030T130000
DTEND;TZID=Europe/Berlin:20251030T160000
DTSTAMP:20260420T173502
CREATED:20250831T230012Z
LAST-MODIFIED:20250829T072311Z
UID:8289-1761829200-1761840000@kalender.seniorinnen.wien
SUMMARY:Demenztransparenz - Klarheit schaffen
DESCRIPTION:Expert:innen des Netzwerks für pflegende An- und Zugehörige vom Fonds Soziales Wien informieren über Demenz und beraten zum Umgang mit Betroffenen. Ziel ist es\, Sicherheit im Kontakt zu gewinnen\, Empathie zu stärken und Möglichkeiten aufzuzeigen\, wie wir Menschen mit Demenz achtsam und würdevoll begleiten können. \nAnmeldung bis 30.9. \nTel.: 01 24 5 24 – 30 110\nE-Mail: tz-simmering@fsw.at \nFoto: Pixabay
URL:https://kalender.seniorinnen.wien/event/demenztransparenz-klarheit-schaffen/2025-10-30/
LOCATION:FSW-Tageszentrum Simmering\, Dittmanngasse 5C\, Wien\, 1110
CATEGORIES:Demenz,Monat der Senior:innen
ATTACH;FMTTYPE=image/jpeg:https://kalender.seniorinnen.wien/wp-content/uploads/2025/08/note-2527442_1920-e1756291109952.jpg
END:VEVENT
BEGIN:VEVENT
DTSTART;TZID=Europe/Berlin:20251015T090000
DTEND;TZID=Europe/Berlin:20251015T120000
DTSTAMP:20260420T173502
CREATED:20250831T230012Z
LAST-MODIFIED:20250829T072310Z
UID:8288-1760518800-1760529600@kalender.seniorinnen.wien
SUMMARY:Demenztransparenz - Klarheit schaffen
DESCRIPTION:Expert:innen des Netzwerks für pflegende An- und Zugehörige vom Fonds Soziales Wien informieren über Demenz und beraten zum Umgang mit Betroffenen. Ziel ist es\, Sicherheit im Kontakt zu gewinnen\, Empathie zu stärken und Möglichkeiten aufzuzeigen\, wie wir Menschen mit Demenz achtsam und würdevoll begleiten können. \nAnmeldung bis 30.9. \nTel.: 01 24 5 24 – 30 110\nE-Mail: tz-simmering@fsw.at \nFoto: Pixabay
URL:https://kalender.seniorinnen.wien/event/demenztransparenz-klarheit-schaffen/2025-10-15/
LOCATION:FSW-Tageszentrum Simmering\, Dittmanngasse 5C\, Wien\, 1110
CATEGORIES:Demenz,Monat der Senior:innen
ATTACH;FMTTYPE=image/jpeg:https://kalender.seniorinnen.wien/wp-content/uploads/2025/08/note-2527442_1920-e1756291109952.jpg
END:VEVENT
END:VCALENDAR