BEGIN:VCALENDAR
VERSION:2.0
PRODID:-//Wien für Senior:innen - ECPv6.15.17.1//NONSGML v1.0//EN
CALSCALE:GREGORIAN
METHOD:PUBLISH
X-WR-CALNAME:Wien für Senior:innen
X-ORIGINAL-URL:https://kalender.seniorinnen.wien
X-WR-CALDESC:Veranstaltungen für Wien für Senior:innen
REFRESH-INTERVAL;VALUE=DURATION:PT1H
X-Robots-Tag:noindex
X-PUBLISHED-TTL:PT1H
BEGIN:VTIMEZONE
TZID:Europe/Berlin
BEGIN:DAYLIGHT
TZOFFSETFROM:+0100
TZOFFSETTO:+0200
TZNAME:CEST
DTSTART:20230326T010000
END:DAYLIGHT
BEGIN:STANDARD
TZOFFSETFROM:+0200
TZOFFSETTO:+0100
TZNAME:CET
DTSTART:20231029T010000
END:STANDARD
BEGIN:DAYLIGHT
TZOFFSETFROM:+0100
TZOFFSETTO:+0200
TZNAME:CEST
DTSTART:20240331T010000
END:DAYLIGHT
BEGIN:STANDARD
TZOFFSETFROM:+0200
TZOFFSETTO:+0100
TZNAME:CET
DTSTART:20241027T010000
END:STANDARD
BEGIN:DAYLIGHT
TZOFFSETFROM:+0100
TZOFFSETTO:+0200
TZNAME:CEST
DTSTART:20250330T010000
END:DAYLIGHT
BEGIN:STANDARD
TZOFFSETFROM:+0200
TZOFFSETTO:+0100
TZNAME:CET
DTSTART:20251026T010000
END:STANDARD
END:VTIMEZONE
BEGIN:VEVENT
DTSTART;TZID=Europe/Berlin:20240614T143000
DTEND;TZID=Europe/Berlin:20240614T160000
DTSTAMP:20260420T220632
CREATED:20240409T100256Z
LAST-MODIFIED:20240409T100256Z
UID:5648-1718375400-1718380800@kalender.seniorinnen.wien
SUMMARY:Demenzsprechstunde in Währing
DESCRIPTION:In der Bezirksvorstehung Währing bietet die Demenzexpertin Gabi Dolezal in den nächsten Monaten kostenlose Erstberatung für Demenzerkrankte und deren Angehörige an. In einem persönlichen Gespräch informiert sie über Anzeichen und Verlauf einer Demenzerkrankung\, zeigt Unterstützungsmöglichkeiten auf und vermittelt Kontakte. \nDie Beratung im Büro der Bezirksvorstehung (Amtshaus Währing\, Martinstraße 100\, 1. Stock) ist kostenfrei und unkompliziert.\nEine Anmeldung ist nicht erforderlich. Es kann zu Wartezeiten kommen. \nDie Termine: 26. April\, 24. Mai und 14. Juni\, jeweils von 14.30 bis 16.00 Uhr \n  \n  \n  \n 
URL:https://kalender.seniorinnen.wien/event/demenzsprechstunde-in-waehring/2024-06-14/
LOCATION:Amtshaus Währing\, Martinstraße 100/1. Stock\, Wien\, 1180
CATEGORIES:Demenz
ATTACH;FMTTYPE=image/jpeg:https://kalender.seniorinnen.wien/wp-content/uploads/2024/04/walnut-3072681_1920-e1712656968952.jpg
END:VEVENT
BEGIN:VEVENT
DTSTART;TZID=Europe/Berlin:20240524T143000
DTEND;TZID=Europe/Berlin:20240524T160000
DTSTAMP:20260420T220632
CREATED:20240409T100256Z
LAST-MODIFIED:20240409T100256Z
UID:5647-1716561000-1716566400@kalender.seniorinnen.wien
SUMMARY:Demenzsprechstunde in Währing
DESCRIPTION:In der Bezirksvorstehung Währing bietet die Demenzexpertin Gabi Dolezal in den nächsten Monaten kostenlose Erstberatung für Demenzerkrankte und deren Angehörige an. In einem persönlichen Gespräch informiert sie über Anzeichen und Verlauf einer Demenzerkrankung\, zeigt Unterstützungsmöglichkeiten auf und vermittelt Kontakte. \nDie Beratung im Büro der Bezirksvorstehung (Amtshaus Währing\, Martinstraße 100\, 1. Stock) ist kostenfrei und unkompliziert.\nEine Anmeldung ist nicht erforderlich. Es kann zu Wartezeiten kommen. \nDie Termine: 26. April\, 24. Mai und 14. Juni\, jeweils von 14.30 bis 16.00 Uhr \n  \n  \n  \n 
URL:https://kalender.seniorinnen.wien/event/demenzsprechstunde-in-waehring/2024-05-24/
LOCATION:Amtshaus Währing\, Martinstraße 100/1. Stock\, Wien\, 1180
CATEGORIES:Demenz
ATTACH;FMTTYPE=image/jpeg:https://kalender.seniorinnen.wien/wp-content/uploads/2024/04/walnut-3072681_1920-e1712656968952.jpg
END:VEVENT
BEGIN:VEVENT
DTSTART;TZID=Europe/Berlin:20240426T143000
DTEND;TZID=Europe/Berlin:20240426T160000
DTSTAMP:20260420T220632
CREATED:20240409T100256Z
LAST-MODIFIED:20240409T101043Z
UID:5634-1714141800-1714147200@kalender.seniorinnen.wien
SUMMARY:Demenzsprechstunde in Währing
DESCRIPTION:In der Bezirksvorstehung Währing bietet die Demenzexpertin Gabi Dolezal in den nächsten Monaten kostenlose Erstberatung für Demenzerkrankte und deren Angehörige an. In einem persönlichen Gespräch informiert sie über Anzeichen und Verlauf einer Demenzerkrankung\, zeigt Unterstützungsmöglichkeiten auf und vermittelt Kontakte. \nDie Beratung im Büro der Bezirksvorstehung (Amtshaus Währing\, Martinstraße 100\, 1. Stock) ist kostenfrei und unkompliziert.\nEine Anmeldung ist nicht erforderlich. Es kann zu Wartezeiten kommen. \nDie Termine: 26. April\, 24. Mai und 14. Juni\, jeweils von 14.30 bis 16.00 Uhr \n  \n  \n  \n 
URL:https://kalender.seniorinnen.wien/event/demenzsprechstunde-in-waehring/2024-04-26/
LOCATION:Amtshaus Währing\, Martinstraße 100/1. Stock\, Wien\, 1180
CATEGORIES:Demenz
ATTACH;FMTTYPE=image/jpeg:https://kalender.seniorinnen.wien/wp-content/uploads/2024/04/walnut-3072681_1920-e1712656968952.jpg
END:VEVENT
END:VCALENDAR