BEGIN:VCALENDAR
VERSION:2.0
PRODID:-//Wien für Senior:innen - ECPv6.15.17.1//NONSGML v1.0//EN
CALSCALE:GREGORIAN
METHOD:PUBLISH
X-ORIGINAL-URL:https://kalender.seniorinnen.wien
X-WR-CALDESC:Veranstaltungen für Wien für Senior:innen
REFRESH-INTERVAL;VALUE=DURATION:PT1H
X-Robots-Tag:noindex
X-PUBLISHED-TTL:PT1H
BEGIN:VTIMEZONE
TZID:Europe/Berlin
BEGIN:DAYLIGHT
TZOFFSETFROM:+0100
TZOFFSETTO:+0200
TZNAME:CEST
DTSTART:20250330T010000
END:DAYLIGHT
BEGIN:STANDARD
TZOFFSETFROM:+0200
TZOFFSETTO:+0100
TZNAME:CET
DTSTART:20251026T010000
END:STANDARD
BEGIN:DAYLIGHT
TZOFFSETFROM:+0100
TZOFFSETTO:+0200
TZNAME:CEST
DTSTART:20260329T010000
END:DAYLIGHT
BEGIN:STANDARD
TZOFFSETFROM:+0200
TZOFFSETTO:+0100
TZNAME:CET
DTSTART:20261025T010000
END:STANDARD
BEGIN:DAYLIGHT
TZOFFSETFROM:+0100
TZOFFSETTO:+0200
TZNAME:CEST
DTSTART:20270328T010000
END:DAYLIGHT
BEGIN:STANDARD
TZOFFSETFROM:+0200
TZOFFSETTO:+0100
TZNAME:CET
DTSTART:20271031T010000
END:STANDARD
END:VTIMEZONE
BEGIN:VEVENT
DTSTART;TZID=Europe/Berlin:20260120T090000
DTEND;TZID=Europe/Berlin:20260120T120000
DTSTAMP:20260420T231309
CREATED:20251127T120517Z
LAST-MODIFIED:20251127T120517Z
UID:11294-1768899600-1768910400@kalender.seniorinnen.wien
SUMMARY:Demenzinfotage: „Demenz im Blick – Wissen hilft“
DESCRIPTION:Wiener Hilfswerk\nNachbarschaftszentrum 7  \nDienstag\, 20.1.2026\n9-12 Uhr und 13-17 Uhr\nGesundheitsberatungen und Sozialberatungen nach Terminvereinbarung. \nWeitere Infos unter https://www.nachbarschaftszentren.at/standorte/nbz7 \nFoto: Pixabay
URL:https://kalender.seniorinnen.wien/event/demenzinfotage-demenz-im-blick-wissen-hilft/2026-01-20/
LOCATION:Wiener Hilfswerk\, Schottenfeldgasse 29\, Wien\, Wien\, 1070\, Österreich
CATEGORIES:Demenz,Information
ATTACH;FMTTYPE=image/jpeg:https://kalender.seniorinnen.wien/wp-content/uploads/2025/08/Schriftzug-Demenz-©Pixabay-e1754396077386.jpg
END:VEVENT
END:VCALENDAR