BEGIN:VCALENDAR
VERSION:2.0
PRODID:-//Wien für Senior:innen - ECPv6.15.17.1//NONSGML v1.0//EN
CALSCALE:GREGORIAN
METHOD:PUBLISH
X-WR-CALNAME:Wien für Senior:innen
X-ORIGINAL-URL:https://kalender.seniorinnen.wien
X-WR-CALDESC:Veranstaltungen für Wien für Senior:innen
REFRESH-INTERVAL;VALUE=DURATION:PT1H
X-Robots-Tag:noindex
X-PUBLISHED-TTL:PT1H
BEGIN:VTIMEZONE
TZID:Europe/Berlin
BEGIN:DAYLIGHT
TZOFFSETFROM:+0100
TZOFFSETTO:+0200
TZNAME:CEST
DTSTART:20220327T010000
END:DAYLIGHT
BEGIN:STANDARD
TZOFFSETFROM:+0200
TZOFFSETTO:+0100
TZNAME:CET
DTSTART:20221030T010000
END:STANDARD
BEGIN:DAYLIGHT
TZOFFSETFROM:+0100
TZOFFSETTO:+0200
TZNAME:CEST
DTSTART:20230326T010000
END:DAYLIGHT
BEGIN:STANDARD
TZOFFSETFROM:+0200
TZOFFSETTO:+0100
TZNAME:CET
DTSTART:20231029T010000
END:STANDARD
BEGIN:DAYLIGHT
TZOFFSETFROM:+0100
TZOFFSETTO:+0200
TZNAME:CEST
DTSTART:20240331T010000
END:DAYLIGHT
BEGIN:STANDARD
TZOFFSETFROM:+0200
TZOFFSETTO:+0100
TZNAME:CET
DTSTART:20241027T010000
END:STANDARD
END:VTIMEZONE
BEGIN:VEVENT
DTSTART;TZID=Europe/Berlin:20230602T143000
DTEND;TZID=Europe/Berlin:20230602T190000
DTSTAMP:20260420T234616
CREATED:20230331T160116Z
LAST-MODIFIED:20230331T160302Z
UID:3361-1685716200-1685732400@kalender.seniorinnen.wien
SUMMARY:Demenz Meet Wien
DESCRIPTION:„HIER kann ich sein\, wie ich bin“\, fasste eine Selbstvertreterin das Demenz Meet Wien 2022 zusammen.\nWir spannen den Bogen weit rund um Selbstsorge und zeigen\, was alles geht und wo es was braucht. \nAn zwei Tagen erwarten Sie intensive Diskussionsrunden\, spannende Impulsreferate\, authentische Demenzgeschichten\, ein lebendiger Marktplatz\, persönlicher Erfahrungsaustausch\, wunderbares Essen\, lockere Atmosphäre u.v.m. \n\nErfahrungen austauschen und spüren: Demenz Meets sind unkomplizierte\, lebendige und inspirierende Zusammenkünfte von Menschen mit Demenz\, ihren Angehörigen und Fachleuten. Das genaue Programm ist in Kürze hier zu finden. \nTermin \n\nFreitag\, 2. Juni von 14.30 – 19 Uhr (Einlass: 14 Uhr)\nSamstag\, 3. Juni 2023 von 9.30 – 15 Uhr (Einlass: 9 Uhr)\n\nOrt & Adresse \n\nKardinal König Haus\nAdresse: Kardinal-König-Platz 3\, 1130 Wien\n\nTeilnahmegebühr \n\nEintagesticket\n\nFreitag\, 2. Juni\, 14.30–19 Uhr: 45€ pro Person (inkl. Abendessen) oder\nSamstag\, 3. Juni\, 9.30–15 Uhr: 45€ pro Person (inkl. Mittagessen)\n\n\nZweitagesticket (Freitag + Samstag): 75€ pro Person (inkl. Abendessen und Mittagessen)\n\nMelden Sie sich an! 
URL:https://kalender.seniorinnen.wien/event/demenz-meet-wien/2023-06-02/
LOCATION:Kardinal König Haus\, Kardinal König Platz 3\, Wien\, 1130
CATEGORIES:Demenz,Information
END:VEVENT
END:VCALENDAR