BEGIN:VCALENDAR
VERSION:2.0
PRODID:-//Wien für Senior:innen - ECPv6.15.17.1//NONSGML v1.0//EN
CALSCALE:GREGORIAN
METHOD:PUBLISH
X-ORIGINAL-URL:https://kalender.seniorinnen.wien
X-WR-CALDESC:Veranstaltungen für Wien für Senior:innen
REFRESH-INTERVAL;VALUE=DURATION:PT1H
X-Robots-Tag:noindex
X-PUBLISHED-TTL:PT1H
BEGIN:VTIMEZONE
TZID:Europe/Berlin
BEGIN:DAYLIGHT
TZOFFSETFROM:+0100
TZOFFSETTO:+0200
TZNAME:CEST
DTSTART:20220327T010000
END:DAYLIGHT
BEGIN:STANDARD
TZOFFSETFROM:+0200
TZOFFSETTO:+0100
TZNAME:CET
DTSTART:20221030T010000
END:STANDARD
BEGIN:DAYLIGHT
TZOFFSETFROM:+0100
TZOFFSETTO:+0200
TZNAME:CEST
DTSTART:20230326T010000
END:DAYLIGHT
BEGIN:STANDARD
TZOFFSETFROM:+0200
TZOFFSETTO:+0100
TZNAME:CET
DTSTART:20231029T010000
END:STANDARD
BEGIN:DAYLIGHT
TZOFFSETFROM:+0100
TZOFFSETTO:+0200
TZNAME:CEST
DTSTART:20240331T010000
END:DAYLIGHT
BEGIN:STANDARD
TZOFFSETFROM:+0200
TZOFFSETTO:+0100
TZNAME:CET
DTSTART:20241027T010000
END:STANDARD
END:VTIMEZONE
BEGIN:VEVENT
DTSTART;TZID=Europe/Berlin:20230425T150000
DTEND;TZID=Europe/Berlin:20230425T173000
DTSTAMP:20260420T193719
CREATED:20230412T130321Z
LAST-MODIFIED:20230412T130321Z
UID:3385-1682434800-1682443800@kalender.seniorinnen.wien
SUMMARY:Café Memory - Johanneskirche 1230
DESCRIPTION:Vergesslichkeit und Demenz gemeinsam bewältigen\nMenschen mit Vergesslichkeit oder Demenz und deren Angehörige kommen aus verschiedenen Gemeinden in den barrierefreien Räumen der Pauluskirche in 1030\, Sebastianplatz 4 bzw. der Johanneskirche in 1230\, Dr.-Andreas-Zailer-Gasse 10 zusammen. \nDort wird bei 14-tägigen Treffen zunächst in bunter Runde Kaffee getrunken und geplaudert. Anschließend haben die Angehörigen in einem Nebenraum Gelegenheit zum Erfahrungs- und Informationsaustausch. Für die Menschen mit Gedächtnisproblemen oder Demenzerkrankung gibt es parallel dazu ein Programm für Geist und Körper – angeleitet durch eine hauptamtliche Mitarbeiterin. Ehrenamtliche aus der Kirchenregion unterstützen sowohl die Angehörigen- als auch die Aktivgruppe. \n\nRegion Wien-Süd-West: Johanneskirche\, Dr.-Andreas-Zailer-Gasse 10\, 1230 Wien\n14-tägig\, dienstags\, 15:00 – 17:30 Uhr\n11. + 25. 4. 2023\n09. + 23. 5. 2023\n06. + 20. 6. 2023\nAnmeldung unter: 0699 / 188 777 45\, schneeweiss@evang-liesing.at
URL:https://kalender.seniorinnen.wien/event/cafe-memory-johanneskirche-1230/2023-04-25/
LOCATION:Johanneskirche\, Dr.-Andreas-Zailer-Gasse 10\, Wien\, Wien\, 1230\, Österreich
CATEGORIES:Demenz,Unterhaltung
END:VEVENT
END:VCALENDAR