BEGIN:VCALENDAR
VERSION:2.0
PRODID:-//Wien für Senior:innen - ECPv6.15.17.1//NONSGML v1.0//EN
CALSCALE:GREGORIAN
METHOD:PUBLISH
X-WR-CALNAME:Wien für Senior:innen
X-ORIGINAL-URL:https://kalender.seniorinnen.wien
X-WR-CALDESC:Veranstaltungen für Wien für Senior:innen
REFRESH-INTERVAL;VALUE=DURATION:PT1H
X-Robots-Tag:noindex
X-PUBLISHED-TTL:PT1H
BEGIN:VTIMEZONE
TZID:Europe/Berlin
BEGIN:DAYLIGHT
TZOFFSETFROM:+0100
TZOFFSETTO:+0200
TZNAME:CEST
DTSTART:20230326T010000
END:DAYLIGHT
BEGIN:STANDARD
TZOFFSETFROM:+0200
TZOFFSETTO:+0100
TZNAME:CET
DTSTART:20231029T010000
END:STANDARD
BEGIN:DAYLIGHT
TZOFFSETFROM:+0100
TZOFFSETTO:+0200
TZNAME:CEST
DTSTART:20240331T010000
END:DAYLIGHT
BEGIN:STANDARD
TZOFFSETFROM:+0200
TZOFFSETTO:+0100
TZNAME:CET
DTSTART:20241027T010000
END:STANDARD
BEGIN:DAYLIGHT
TZOFFSETFROM:+0100
TZOFFSETTO:+0200
TZNAME:CEST
DTSTART:20250330T010000
END:DAYLIGHT
BEGIN:STANDARD
TZOFFSETFROM:+0200
TZOFFSETTO:+0100
TZNAME:CET
DTSTART:20251026T010000
END:STANDARD
END:VTIMEZONE
BEGIN:VEVENT
DTSTART;TZID=Europe/Berlin:20241121T183000
DTEND;TZID=Europe/Berlin:20241121T203000
DTSTAMP:20260421T020000
CREATED:20231219T083805Z
LAST-MODIFIED:20240215T082650Z
UID:4715-1732213800-1732221000@kalender.seniorinnen.wien
SUMMARY:Blackout
DESCRIPTION:Für längere Stromausfälle wie bei einem Blackout können Sie vorsorgen. \n\nWie könnte ein längerfristiger und großflächiger Stromausfall entstehen?\nWelche möglichen Folgen hat ein Blackout für die Bevölkerung?\nWas macht Ihren Haushalt krisensicher?\n\nAntworten auf diese und ähnliche Fragen erhalten Sie in diesem Vortrag. \nInhalte:\nDie Helfer Wiens (Selbst- und Zivilschutz) \nWie ist der Zivilschutz aufgebaut? \nKrisensicherer Haushalt (Bevorratung etc.) \nStromversorgungskrisen (Blackout und Strommangellage): \n\nDefinition und Ursachen\nBeispiele bisheriger Stromausfälle\nMögliche Folgen für die Bevölkerung\nVorbereitungen seitens der Stadt Wien\nVorbereitungen seitens der Bevölkerung – Was ist zu tun?\n\nAnmeldung: \nhttps://diehelferwiens.wien.gv.at/vortraege#wienerinnen \nMail: diehelferwiens@wien.gv.at \nTel: 01 522 33 44 \n  \nFoto: Pixabay
URL:https://kalender.seniorinnen.wien/event/blackout/2024-11-21/
LOCATION:Sicherheitszentrum Die Helfer Wiens\, Hermanngasse 24\, Wien\, 1070
CATEGORIES:Sicherheit
ATTACH;FMTTYPE=image/jpeg:https://kalender.seniorinnen.wien/wp-content/uploads/2023/12/light-bulb-3535435_1920-e1707313614380.jpg
ORGANIZER;CN="Die Helfer Wiens":MAILTO:office@diehelferwiens.at
END:VEVENT
BEGIN:VEVENT
DTSTART;TZID=Europe/Berlin:20241003T160000
DTEND;TZID=Europe/Berlin:20241003T180000
DTSTAMP:20260421T020000
CREATED:20231219T083805Z
LAST-MODIFIED:20240215T082650Z
UID:4737-1727971200-1727978400@kalender.seniorinnen.wien
SUMMARY:Blackout
DESCRIPTION:Für längere Stromausfälle wie bei einem Blackout können Sie vorsorgen. \n\nWie könnte ein längerfristiger und großflächiger Stromausfall entstehen?\nWelche möglichen Folgen hat ein Blackout für die Bevölkerung?\nWas macht Ihren Haushalt krisensicher?\n\nAntworten auf diese und ähnliche Fragen erhalten Sie in diesem Vortrag. \nInhalte:\nDie Helfer Wiens (Selbst- und Zivilschutz) \nWie ist der Zivilschutz aufgebaut? \nKrisensicherer Haushalt (Bevorratung etc.) \nStromversorgungskrisen (Blackout und Strommangellage): \n\nDefinition und Ursachen\nBeispiele bisheriger Stromausfälle\nMögliche Folgen für die Bevölkerung\nVorbereitungen seitens der Stadt Wien\nVorbereitungen seitens der Bevölkerung – Was ist zu tun?\n\nAnmeldung: \nhttps://diehelferwiens.wien.gv.at/vortraege#wienerinnen \nMail: diehelferwiens@wien.gv.at \nTel: 01 522 33 44 \n  \nFoto: Pixabay
URL:https://kalender.seniorinnen.wien/event/blackout/2024-10-03/
LOCATION:Sicherheitszentrum Die Helfer Wiens\, Hermanngasse 24\, Wien\, 1070
CATEGORIES:Sicherheit
ATTACH;FMTTYPE=image/jpeg:https://kalender.seniorinnen.wien/wp-content/uploads/2023/12/light-bulb-3535435_1920-e1707313614380.jpg
ORGANIZER;CN="Die Helfer Wiens":MAILTO:office@diehelferwiens.at
END:VEVENT
BEGIN:VEVENT
DTSTART;TZID=Europe/Berlin:20240523T183000
DTEND;TZID=Europe/Berlin:20240523T203000
DTSTAMP:20260421T020000
CREATED:20231219T083805Z
LAST-MODIFIED:20240215T082649Z
UID:4713-1716489000-1716496200@kalender.seniorinnen.wien
SUMMARY:Blackout
DESCRIPTION:Für längere Stromausfälle wie bei einem Blackout können Sie vorsorgen. \n\nWie könnte ein längerfristiger und großflächiger Stromausfall entstehen?\nWelche möglichen Folgen hat ein Blackout für die Bevölkerung?\nWas macht Ihren Haushalt krisensicher?\n\nAntworten auf diese und ähnliche Fragen erhalten Sie in diesem Vortrag. \nInhalte:\nDie Helfer Wiens (Selbst- und Zivilschutz) \nWie ist der Zivilschutz aufgebaut? \nKrisensicherer Haushalt (Bevorratung etc.) \nStromversorgungskrisen (Blackout und Strommangellage): \n\nDefinition und Ursachen\nBeispiele bisheriger Stromausfälle\nMögliche Folgen für die Bevölkerung\nVorbereitungen seitens der Stadt Wien\nVorbereitungen seitens der Bevölkerung – Was ist zu tun?\n\nAnmeldung: \nhttps://diehelferwiens.wien.gv.at/vortraege#wienerinnen \nMail: diehelferwiens@wien.gv.at \nTel: 01 522 33 44 \n  \nFoto: Pixabay
URL:https://kalender.seniorinnen.wien/event/blackout/2024-05-23/
LOCATION:Sicherheitszentrum Die Helfer Wiens\, Hermanngasse 24\, Wien\, 1070
CATEGORIES:Sicherheit
ATTACH;FMTTYPE=image/jpeg:https://kalender.seniorinnen.wien/wp-content/uploads/2023/12/light-bulb-3535435_1920-e1707313614380.jpg
ORGANIZER;CN="Die Helfer Wiens":MAILTO:office@diehelferwiens.at
END:VEVENT
BEGIN:VEVENT
DTSTART;TZID=Europe/Berlin:20240321T183000
DTEND;TZID=Europe/Berlin:20240321T203000
DTSTAMP:20260421T020000
CREATED:20231219T083805Z
LAST-MODIFIED:20240215T082649Z
UID:4711-1711045800-1711053000@kalender.seniorinnen.wien
SUMMARY:Blackout
DESCRIPTION:Für längere Stromausfälle wie bei einem Blackout können Sie vorsorgen. \n\nWie könnte ein längerfristiger und großflächiger Stromausfall entstehen?\nWelche möglichen Folgen hat ein Blackout für die Bevölkerung?\nWas macht Ihren Haushalt krisensicher?\n\nAntworten auf diese und ähnliche Fragen erhalten Sie in diesem Vortrag. \nInhalte:\nDie Helfer Wiens (Selbst- und Zivilschutz) \nWie ist der Zivilschutz aufgebaut? \nKrisensicherer Haushalt (Bevorratung etc.) \nStromversorgungskrisen (Blackout und Strommangellage): \n\nDefinition und Ursachen\nBeispiele bisheriger Stromausfälle\nMögliche Folgen für die Bevölkerung\nVorbereitungen seitens der Stadt Wien\nVorbereitungen seitens der Bevölkerung – Was ist zu tun?\n\nAnmeldung: \nhttps://diehelferwiens.wien.gv.at/vortraege#wienerinnen \nMail: diehelferwiens@wien.gv.at \nTel: 01 522 33 44 \n  \nFoto: Pixabay
URL:https://kalender.seniorinnen.wien/event/blackout/2024-03-21/
LOCATION:Sicherheitszentrum Die Helfer Wiens\, Hermanngasse 24\, Wien\, 1070
CATEGORIES:Sicherheit
ATTACH;FMTTYPE=image/jpeg:https://kalender.seniorinnen.wien/wp-content/uploads/2023/12/light-bulb-3535435_1920-e1707313614380.jpg
ORGANIZER;CN="Die Helfer Wiens":MAILTO:office@diehelferwiens.at
END:VEVENT
END:VCALENDAR